Workbook

Sheet Instructions
A1: IRS penalty and interest workbook
A2: Calcority. Failure-to-file and failure-to-pay penalties and daily-compounded interest for an unpaid individual income tax balance.
A4: How to use
A5: 1 | B5: Penalty tab: overwrite the example (a $12,000 balance from a return due April 15, 2026, filed July 10 and paid September 21) with your dates. Leave the filed date blank if the return is not filed yet.
A6: 2 | B6: The tab shows each month of the filing and payment penalties, the interest, and the total to pay on your payoff date. The Interest tab computes daily compounding and covers up to three years after the due date.
A7: 3 | B7: Rates tab: IRS quarterly rates for individuals. Update it each quarter after the IRS announcement. Dates after the last row use the assumed rate.
A8: Colors | B8: Blue on yellow = you type. Black = formula. The starting values are illustrations.
A9: Rules
A10: Failure to file | B10: 5% of the unpaid tax per month or part of a month, up to 25%; 4.5% in months when the failure-to-pay penalty also applies. A return more than 60 days late has a minimum penalty: the lesser of the indexed dollar amount ($525 for returns due in 2026) or 100% of the tax.
A11: Failure to pay | B11: 0.5% per month or part of a month, up to 25%; 0.25% during an approved installment agreement if the return was filed on time; 1% after a notice of intent to levy plus 10 days.
A12: Interest | B12: The federal short-term rate + 3 points, set each quarter, compounded daily, on the unpaid tax and on the failure-to-file penalty from the due date. Interest on the payment penalty is not modeled.
A13: Disclaimer | B13: An estimate, not a bill. The IRS computes on its own records, applies payments in its own order, and may abate penalties. Not tax or legal advice.

Sheet Penalty
A1: Penalty and interest (example values: overwrite)
H3: Results
A4: Tax owed and unpaid at the due date | B4: 12000 | H4: Failure-to-file penalty before the minimum and cap | I4: =SUM(E26:E30) -> 1620
A5: Original due date | B5: 46127 | H5: Failure-to-file penalty (capped at 25%, minimum applied) | I5: =IF(B21=1,IF(AND(B20>B19+60,B4>0),MAX(MIN(I4,0.25*B4),MIN(B15,B4)),MIN(I4,0.25*B4)),0) -> 1620
A6: Extension to file? (Yes/No) | B6: No | H6: Failure-to-pay penalty (capped at 25%) | I6: =MIN(SUM(E35:E94),0.25*B4) -> 360
A7: Date the return was filed (blank = not filed) | B7: 46213 | H7: Interest on the tax | I7: =INDEX(Interest!F5:F1099,COUNTIF(Interest!A5:A1099,"<="&B8)) -> 345.78928
A8: Payoff date | B8: 46286 | H8: Interest on the failure-to-file penalty | I8: =INDEX(Interest!G5:G1099,COUNTIF(Interest!A5:A1099,"<="&B8)) -> 46.681553
A9: Payments already made | H9: Tax still unpaid at the payoff date | I9: =MAX(0,B4-SUMIFS(C10:C12,B10:B12,"<="&B8)) -> 12000
A10: Payment 1: date, amount | H10: Total penalties | I10: =I5+I6 -> 1980
A11: Payment 2: date, amount | H11: Total interest | I11: =I7+I8 -> 392.47083
A12: Payment 3: date, amount | H12: Total to pay on the payoff date | I12: =I9+I10+I11 -> 14372.471
A13: Installment agreement approved from (blank = none) | H13: Extra cost as a share of the tax | I13: =IF(B4>0,(I10+I11)/B4,0) -> 0.1977059
A14: Notice of intent to levy dated (blank = none) | H14: Total if the penalties were abated (interest on the tax only) | I14: =I9+I7 -> 12345.789
A15: Minimum late-filing penalty for that year | B15: 525
A16: Interest rate assumed after 2026 (%) | B16: 7
A18: Derived
A19: Due date including extension | B19: =IF(B6="Yes",EDATE(B5,6),B5) -> 46127
A20: Filing date used for the penalty | B20: =IF(B7="",B8,B7) -> 46213
A21: Filed after the extended due date? | B21: =IF(B20>B19,1,0) -> 1
A22: Filed on time (for the 0.25% installment rate)? | B22: =IF(AND(B7<>"",B7<=B19),1,0) -> 0
A24: Failure to file, month by month
A25: Month | B25: Starts | C25: Unpaid tax | D25: Rate | E25: Penalty
A26: 1 | B26: =EDATE($B$19,0) -> 46127 | C26: =IF(AND($B$21=1,$B$20>B26),MAX(0,$B$4-SUMIFS($C$10:$C$12,$B$10:$B$12,"<="&B26)),0) -> 12000 | D26: =IF(AND(C26>0,B26>=$B$5),0.045,0.05) -> 0.045 | E26: =C26*D26 -> 540
A27: 2 | B27: =EDATE($B$19,1) -> 46157 | C27: =IF(AND($B$21=1,$B$20>B27),MAX(0,$B$4-SUMIFS($C$10:$C$12,$B$10:$B$12,"<="&B27)),0) -> 12000 | D27: =IF(AND(C27>0,B27>=$B$5),0.045,0.05) -> 0.045 | E27: =C27*D27 -> 540
A28: 3 | B28: =EDATE($B$19,2) -> 46188 | C28: =IF(AND($B$21=1,$B$20>B28),MAX(0,$B$4-SUMIFS($C$10:$C$12,$B$10:$B$12,"<="&B28)),0) -> 12000 | D28: =IF(AND(C28>0,B28>=$B$5),0.045,0.05) -> 0.045 | E28: =C28*D28 -> 540
A29: 4 | B29: =EDATE($B$19,3) -> 46218 | C29: =IF(AND($B$21=1,$B$20>B29),MAX(0,$B$4-SUMIFS($C$10:$C$12,$B$10:$B$12,"<="&B29)),0) -> 0 | D29: =IF(AND(C29>0,B29>=$B$5),0.045,0.05) -> 0.05 | E29: =C29*D29 -> 0
A30: 5 | B30: =EDATE($B$19,4) -> 46249 | C30: =IF(AND($B$21=1,$B$20>B30),MAX(0,$B$4-SUMIFS($C$10:$C$12,$B$10:$B$12,"<="&B30)),0) -> 0 | D30: =IF(AND(C30>0,B30>=$B$5),0.045,0.05) -> 0.05 | E30: =C30*D30 -> 0
A33: Failure to pay, month by month (first 60 months)
A34: Month | B34: Starts | C34: Unpaid tax | D34: Rate | E34: Penalty
A35: 1 | B35: =EDATE($B$5,0) -> 46127 | C35: =IF($B$8>B35,MAX(0,$B$4-SUMIFS($C$10:$C$12,$B$10:$B$12,"<="&B35)),0) -> 12000 | D35: =IF(AND($B$14<>"",B35>=$B$14+10),0.01,IF(AND($B$13<>"",B35>=$B$13,$B$22=1),0.0025,0.005)) -> 0.005 | E35: =C35*D35 -> 60
A36: 2 | B36: =EDATE($B$5,1) -> 46157 | C36: =IF($B$8>B36,MAX(0,$B$4-SUMIFS($C$10:$C$12,$B$10:$B$12,"<="&B36)),0) -> 12000 | D36: =IF(AND($B$14<>"",B36>=$B$14+10),0.01,IF(AND($B$13<>"",B36>=$B$13,$B$22=1),0.0025,0.005)) -> 0.005 | E36: =C36*D36 -> 60
A37: 3 | B37: =EDATE($B$5,2) -> 46188 | C37: =IF($B$8>B37,MAX(0,$B$4-SUMIFS($C$10:$C$12,$B$10:$B$12,"<="&B37)),0) -> 12000 | D37: =IF(AND($B$14<>"",B37>=$B$14+10),0.01,IF(AND($B$13<>"",B37>=$B$13,$B$22=1),0.0025,0.005)) -> 0.005 | E37: =C37*D37 -> 60
A38: 4 | B38: =EDATE($B$5,3) -> 46218 | C38: =IF($B$8>B38,MAX(0,$B$4-SUMIFS($C$10:$C$12,$B$10:$B$12,"<="&B38)),0) -> 12000 | D38: =IF(AND($B$14<>"",B38>=$B$14+10),0.01,IF(AND($B$13<>"",B38>=$B$13,$B$22=1),0.0025,0.005)) -> 0.005 | E38: =C38*D38 -> 60
A39: 5 | B39: =EDATE($B$5,4) -> 46249 | C39: =IF($B$8>B39,MAX(0,$B$4-SUMIFS($C$10:$C$12,$B$10:$B$12,"<="&B39)),0) -> 12000 | D39: =IF(AND($B$14<>"",B39>=$B$14+10),0.01,IF(AND($B$13<>"",B39>=$B$13,$B$22=1),0.0025,0.005)) -> 0.005 | E39: =C39*D39 -> 60
A40: 6 | B40: =EDATE($B$5,5) -> 46280 | C40: =IF($B$8>B40,MAX(0,$B$4-SUMIFS($C$10:$C$12,$B$10:$B$12,"<="&B40)),0) -> 12000 | D40: =IF(AND($B$14<>"",B40>=$B$14+10),0.01,IF(AND($B$13<>"",B40>=$B$13,$B$22=1),0.0025,0.005)) -> 0.005 | E40: =C40*D40 -> 60
A41: 7 | B41: =EDATE($B$5,6) -> 46310 | C41: =IF($B$8>B41,MAX(0,$B$4-SUMIFS($C$10:$C$12,$B$10:$B$12,"<="&B41)),0) -> 0 | D41: =IF(AND($B$14<>"",B41>=$B$14+10),0.01,IF(AND($B$13<>"",B41>=$B$13,$B$22=1),0.0025,0.005)) -> 0.005 | E41: =C41*D41 -> 0
A42: 8 | B42: =EDATE($B$5,7) -> 46341 | C42: =IF($B$8>B42,MAX(0,$B$4-SUMIFS($C$10:$C$12,$B$10:$B$12,"<="&B42)),0) -> 0 | D42: =IF(AND($B$14<>"",B42>=$B$14+10),0.01,IF(AND($B$13<>"",B42>=$B$13,$B$22=1),0.0025,0.005)) -> 0.005 | E42: =C42*D42 -> 0
A43: 9 | B43: =EDATE($B$5,8) -> 46371 | C43: =IF($B$8>B43,MAX(0,$B$4-SUMIFS($C$10:$C$12,$B$10:$B$12,"<="&B43)),0) -> 0 | D43: =IF(AND($B$14<>"",B43>=$B$14+10),0.01,IF(AND($B$13<>"",B43>=$B$13,$B$22=1),0.0025,0.005)) -> 0.005 | E43: =C43*D43 -> 0
A44: 10 | B44: =EDATE($B$5,9) -> 46402 | C44: =IF($B$8>B44,MAX(0,$B$4-SUMIFS($C$10:$C$12,$B$10:$B$12,"<="&B44)),0) -> 0 | D44: =IF(AND($B$14<>"",B44>=$B$14+10),0.01,IF(AND($B$13<>"",B44>=$B$13,$B$22=1),0.0025,0.005)) -> 0.005 | E44: =C44*D44 -> 0
A45: 11 | B45: =EDATE($B$5,10) -> 46433 | C45: =IF($B$8>B45,MAX(0,$B$4-SUMIFS($C$10:$C$12,$B$10:$B$12,"<="&B45)),0) -> 0 | D45: =IF(AND($B$14<>"",B45>=$B$14+10),0.01,IF(AND($B$13<>"",B45>=$B$13,$B$22=1),0.0025,0.005)) -> 0.005 | E45: =C45*D45 -> 0
...

Sheet Interest
A1: Daily interest (up to 3 years after the due date)
A4: Date | B4: Rate | C4: Tax unpaid | D4: Interest base | E4: Day's interest | F4: Accrued on tax | G4: Accrued on the filing penalty
A5: =Penalty!$B$5+1 -> 46128 | B5: =IF(YEAR(A5)>2026,Penalty!$B$16/100,IFERROR(INDEX(Rates!$B$4:$E$15,MATCH(YEAR(A5),Rates!$A$4:$A$15,0),ROUNDUP(MONTH(A5)/3,0))/100,0.03)) -> 0.06 | C5: =MAX(0,Penalty!$B$4-SUMIFS(Penalty!$C$10:$C$12,Penalty!$B$10:$B$12,"<"&A5)) -> 12000 | D5: =IF(A5<=Penalty!$B$8,C5+0+IF(A5>Penalty!$B$19,Penalty!$I$5,0)+0,0) -> 13620 | E5: =D5*B5/365 -> 2.2389041 | F5: =0+E5*(1-IF(D5>0,(IF(A5>Penalty!$B$19,Penalty!$I$5,0)+0)/D5,0)) -> 1.9726027 | G5: =0+E5*IF(D5>0,(IF(A5>Penalty!$B$19,Penalty!$I$5,0)+0)/D5,0) -> 0.26630137
A6: =Penalty!$B$5+2 -> 46129 | B6: =IF(YEAR(A6)>2026,Penalty!$B$16/100,IFERROR(INDEX(Rates!$B$4:$E$15,MATCH(YEAR(A6),Rates!$A$4:$A$15,0),ROUNDUP(MONTH(A6)/3,0))/100,0.03)) -> 0.06 | C6: =MAX(0,Penalty!$B$4-SUMIFS(Penalty!$C$10:$C$12,Penalty!$B$10:$B$12,"<"&A6)) -> 12000 | D6: =IF(A6<=Penalty!$B$8,C6+F5+IF(A6>Penalty!$B$19,Penalty!$I$5,0)+G5,0) -> 13622.239 | E6: =D6*B6/365 -> 2.2392721 | F6: =F5+E6*(1-IF(D6>0,(IF(A6>Penalty!$B$19,Penalty!$I$5,0)+G5)/D6,0)) -> 3.9455297 | G6: =G5+E6*IF(D6>0,(IF(A6>Penalty!$B$19,Penalty!$I$5,0)+G5)/D6,0) -> 0.53264652
A7: =Penalty!$B$5+3 -> 46130 | B7: =IF(YEAR(A7)>2026,Penalty!$B$16/100,IFERROR(INDEX(Rates!$B$4:$E$15,MATCH(YEAR(A7),Rates!$A$4:$A$15,0),ROUNDUP(MONTH(A7)/3,0))/100,0.03)) -> 0.06 | C7: =MAX(0,Penalty!$B$4-SUMIFS(Penalty!$C$10:$C$12,Penalty!$B$10:$B$12,"<"&A7)) -> 12000 | D7: =IF(A7<=Penalty!$B$8,C7+F6+IF(A7>Penalty!$B$19,Penalty!$I$5,0)+G6,0) -> 13624.478 | E7: =D7*B7/365 -> 2.2396402 | F7: =F6+E7*(1-IF(D7>0,(IF(A7>Penalty!$B$19,Penalty!$I$5,0)+G6)/D7,0)) -> 5.9187811 | G7: =G6+E7*IF(D7>0,(IF(A7>Penalty!$B$19,Penalty!$I$5,0)+G6)/D7,0) -> 0.79903544
A8: =Penalty!$B$5+4 -> 46131 | B8: =IF(YEAR(A8)>2026,Penalty!$B$16/100,IFERROR(INDEX(Rates!$B$4:$E$15,MATCH(YEAR(A8),Rates!$A$4:$A$15,0),ROUNDUP(MONTH(A8)/3,0))/100,0.03)) -> 0.06 | C8: =MAX(0,Penalty!$B$4-SUMIFS(Penalty!$C$10:$C$12,Penalty!$B$10:$B$12,"<"&A8)) -> 12000 | D8: =IF(A8<=Penalty!$B$8,C8+F7+IF(A8>Penalty!$B$19,Penalty!$I$5,0)+G7,0) -> 13626.718 | E8: =D8*B8/365 -> 2.2400084 | F8: =F7+E8*(1-IF(D8>0,(IF(A8>Penalty!$B$19,Penalty!$I$5,0)+G7)/D8,0)) -> 7.8923568 | G8: =G7+E8*IF(D8>0,(IF(A8>Penalty!$B$19,Penalty!$I$5,0)+G7)/D8,0) -> 1.0654682
A9: =Penalty!$B$5+5 -> 46132 | B9: =IF(YEAR(A9)>2026,Penalty!$B$16/100,IFERROR(INDEX(Rates!$B$4:$E$15,MATCH(YEAR(A9),Rates!$A$4:$A$15,0),ROUNDUP(MONTH(A9)/3,0))/100,0.03)) -> 0.06 | C9: =MAX(0,Penalty!$B$4-SUMIFS(Penalty!$C$10:$C$12,Penalty!$B$10:$B$12,"<"&A9)) -> 12000 | D9: =IF(A9<=Penalty!$B$8,C9+F8+IF(A9>Penalty!$B$19,Penalty!$I$5,0)+G8,0) -> 13628.958 | E9: =D9*B9/365 -> 2.2403766 | F9: =F8+E9*(1-IF(D9>0,(IF(A9>Penalty!$B$19,Penalty!$I$5,0)+G8)/D9,0)) -> 9.8662569 | G9: =G8+E9*IF(D9>0,(IF(A9>Penalty!$B$19,Penalty!$I$5,0)+G8)/D9,0) -> 1.3319447
A10: =Penalty!$B$5+6 -> 46133 | B10: =IF(YEAR(A10)>2026,Penalty!$B$16/100,IFERROR(INDEX(Rates!$B$4:$E$15,MATCH(YEAR(A10),Rates!$A$4:$A$15,0),ROUNDUP(MONTH(A10)/3,0))/100,0.03)) -> 0.06 | C10: =MAX(0,Penalty!$B$4-SUMIFS(Penalty!$C$10:$C$12,Penalty!$B$10:$B$12,"<"&A10)) -> 12000 | D10: =IF(A10<=Penalty!$B$8,C10+F9+IF(A10>Penalty!$B$19,Penalty!$I$5,0)+G9,0) -> 13631.198 | E10: =D10*B10/365 -> 2.2407449 | F10: =F9+E10*(1-IF(D10>0,(IF(A10>Penalty!$B$19,Penalty!$I$5,0)+G9)/D10,0)) -> 11.840481 | G10: =G9+E10*IF(D10>0,(IF(A10>Penalty!$B$19,Penalty!$I$5,0)+G9)/D10,0) -> 1.598465
A11: =Penalty!$B$5+7 -> 46134 | B11: =IF(YEAR(A11)>2026,Penalty!$B$16/100,IFERROR(INDEX(Rates!$B$4:$E$15,MATCH(YEAR(A11),Rates!$A$4:$A$15,0),ROUNDUP(MONTH(A11)/3,0))/100,0.03)) -> 0.06 | C11: =MAX(0,Penalty!$B$4-SUMIFS(Penalty!$C$10:$C$12,Penalty!$B$10:$B$12,"<"&A11)) -> 12000 | D11: =IF(A11<=Penalty!$B$8,C11+F10+IF(A11>Penalty!$B$19,Penalty!$I$5,0)+G10,0) -> 13633.439 | E11: =D11*B11/365 -> 2.2411133 | F11: =F10+E11*(1-IF(D11>0,(IF(A11>Penalty!$B$19,Penalty!$I$5,0)+G10)/D11,0)) -> 13.815031 | G11: =G10+E11*IF(D11>0,(IF(A11>Penalty!$B$19,Penalty!$I$5,0)+G10)/D11,0) -> 1.8650291
A12: =Penalty!$B$5+8 -> 46135 | B12: =IF(YEAR(A12)>2026,Penalty!$B$16/100,IFERROR(INDEX(Rates!$B$4:$E$15,MATCH(YEAR(A12),Rates!$A$4:$A$15,0),ROUNDUP(MONTH(A12)/3,0))/100,0.03)) -> 0.06 | C12: =MAX(0,Penalty!$B$4-SUMIFS(Penalty!$C$10:$C$12,Penalty!$B$10:$B$12,"<"&A12)) -> 12000 | D12: =IF(A12<=Penalty!$B$8,C12+F11+IF(A12>Penalty!$B$19,Penalty!$I$5,0)+G11,0) -> 13635.68 | E12: =D12*B12/365 -> 2.2414817 | F12: =F11+E12*(1-IF(D12>0,(IF(A12>Penalty!$B$19,Penalty!$I$5,0)+G11)/D12,0)) -> 15.789904 | G12: =G11+E12*IF(D12>0,(IF(A12>Penalty!$B$19,Penalty!$I$5,0)+G11)/D12,0) -> 2.1316371
A13: =Penalty!$B$5+9 -> 46136 | B13: =IF(YEAR(A13)>2026,Penalty!$B$16/100,IFERROR(INDEX(Rates!$B$4:$E$15,MATCH(YEAR(A13),Rates!$A$4:$A$15,0),ROUNDUP(MONTH(A13)/3,0))/100,0.03)) -> 0.06 | C13: =MAX(0,Penalty!$B$4-SUMIFS(Penalty!$C$10:$C$12,Penalty!$B$10:$B$12,"<"&A13)) -> 12000 | D13: =IF(A13<=Penalty!$B$8,C13+F12+IF(A13>Penalty!$B$19,Penalty!$I$5,0)+G12,0) -> 13637.922 | E13: =D13*B13/365 -> 2.2418501 | F13: =F12+E13*(1-IF(D13>0,(IF(A13>Penalty!$B$19,Penalty!$I$5,0)+G12)/D13,0)) -> 17.765103 | G13: =G12+E13*IF(D13>0,(IF(A13>Penalty!$B$19,Penalty!$I$5,0)+G12)/D13,0) -> 2.3982889
A14: =Penalty!$B$5+10 -> 46137 | B14: =IF(YEAR(A14)>2026,Penalty!$B$16/100,IFERROR(INDEX(Rates!$B$4:$E$15,MATCH(YEAR(A14),Rates!$A$4:$A$15,0),ROUNDUP(MONTH(A14)/3,0))/100,0.03)) -> 0.06 | C14: =MAX(0,Penalty!$B$4-SUMIFS(Penalty!$C$10:$C$12,Penalty!$B$10:$B$12,"<"&A14)) -> 12000 | D14: =IF(A14<=Penalty!$B$8,C14+F13+IF(A14>Penalty!$B$19,Penalty!$I$5,0)+G13,0) -> 13640.163 | E14: =D14*B14/365 -> 2.2422186 | F14: =F13+E14*(1-IF(D14>0,(IF(A14>Penalty!$B$19,Penalty!$I$5,0)+G13)/D14,0)) -> 19.740626 | G14: =G13+E14*IF(D14>0,(IF(A14>Penalty!$B$19,Penalty!$I$5,0)+G13)/D14,0) -> 2.6649845
A15: =Penalty!$B$5+11 -> 46138 | B15: =IF(YEAR(A15)>2026,Penalty!$B$16/100,IFERROR(INDEX(Rates!$B$4:$E$15,MATCH(YEAR(A15),Rates!$A$4:$A$15,0),ROUNDUP(MONTH(A15)/3,0))/100,0.03)) -> 0.06 | C15: =MAX(0,Penalty!$B$4-SUMIFS(Penalty!$C$10:$C$12,Penalty!$B$10:$B$12,"<"&A15)) -> 12000 | D15: =IF(A15<=Penalty!$B$8,C15+F14+IF(A15>Penalty!$B$19,Penalty!$I$5,0)+G14,0) -> 13642.406 | E15: =D15*B15/365 -> 2.2425872 | F15: =F14+E15*(1-IF(D15>0,(IF(A15>Penalty!$B$19,Penalty!$I$5,0)+G14)/D15,0)) -> 21.716473 | G15: =G14+E15*IF(D15>0,(IF(A15>Penalty!$B$19,Penalty!$I$5,0)+G14)/D15,0) -> 2.9317239
A16: =Penalty!$B$5+12 -> 46139 | B16: =IF(YEAR(A16)>2026,Penalty!$B$16/100,IFERROR(INDEX(Rates!$B$4:$E$15,MATCH(YEAR(A16),Rates!$A$4:$A$15,0),ROUNDUP(MONTH(A16)/3,0))/100,0.03)) -> 0.06 | C16: =MAX(0,Penalty!$B$4-SUMIFS(Penalty!$C$10:$C$12,Penalty!$B$10:$B$12,"<"&A16)) -> 12000 | D16: =IF(A16<=Penalty!$B$8,C16+F15+IF(A16>Penalty!$B$19,Penalty!$I$5,0)+G15,0) -> 13644.648 | E16: =D16*B16/365 -> 2.2429559 | F16: =F15+E16*(1-IF(D16>0,(IF(A16>Penalty!$B$19,Penalty!$I$5,0)+G15)/D16,0)) -> 23.692646 | G16: =G15+E16*IF(D16>0,(IF(A16>Penalty!$B$19,Penalty!$I$5,0)+G15)/D16,0) -> 3.1985072
A17: =Penalty!$B$5+13 -> 46140 | B17: =IF(YEAR(A17)>2026,Penalty!$B$16/100,IFERROR(INDEX(Rates!$B$4:$E$15,MATCH(YEAR(A17),Rates!$A$4:$A$15,0),ROUNDUP(MONTH(A17)/3,0))/100,0.03)) -> 0.06 | C17: =MAX(0,Penalty!$B$4-SUMIFS(Penalty!$C$10:$C$12,Penalty!$B$10:$B$12,"<"&A17)) -> 12000 | D17: =IF(A17<=Penalty!$B$8,C17+F16+IF(A17>Penalty!$B$19,Penalty!$I$5,0)+G16,0) -> 13646.891 | E17: =D17*B17/365 -> 2.2433246 | F17: =F16+E17*(1-IF(D17>0,(IF(A17>Penalty!$B$19,Penalty!$I$5,0)+G16)/D17,0)) -> 25.669143 | G17: =G16+E17*IF(D17>0,(IF(A17>Penalty!$B$19,Penalty!$I$5,0)+G16)/D17,0) -> 3.4653344
A18: =Penalty!$B$5+14 -> 46141 | B18: =IF(YEAR(A18)>2026,Penalty!$B$16/100,IFERROR(INDEX(Rates!$B$4:$E$15,MATCH(YEAR(A18),Rates!$A$4:$A$15,0),ROUNDUP(MONTH(A18)/3,0))/100,0.03)) -> 0.06 | C18: =MAX(0,Penalty!$B$4-SUMIFS(Penalty!$C$10:$C$12,Penalty!$B$10:$B$12,"<"&A18)) -> 12000 | D18: =IF(A18<=Penalty!$B$8,C18+F17+IF(A18>Penalty!$B$19,Penalty!$I$5,0)+G17,0) -> 13649.134 | E18: =D18*B18/365 -> 2.2436933 | F18: =F17+E18*(1-IF(D18>0,(IF(A18>Penalty!$B$19,Penalty!$I$5,0)+G17)/D18,0)) -> 27.645966 | G18: =G17+E18*IF(D18>0,(IF(A18>Penalty!$B$19,Penalty!$I$5,0)+G17)/D18,0) -> 3.7322054
A19: =Penalty!$B$5+15 -> 46142 | B19: =IF(YEAR(A19)>2026,Penalty!$B$16/100,IFERROR(INDEX(Rates!$B$4:$E$15,MATCH(YEAR(A19),Rates!$A$4:$A$15,0),ROUNDUP(MONTH(A19)/3,0))/100,0.03)) -> 0.06 | C19: =MAX(0,Penalty!$B$4-SUMIFS(Penalty!$C$10:$C$12,Penalty!$B$10:$B$12,"<"&A19)) -> 12000 | D19: =IF(A19<=Penalty!$B$8,C19+F18+IF(A19>Penalty!$B$19,Penalty!$I$5,0)+G18,0) -> 13651.378 | E19: =D19*B19/365 -> 2.2440622 | F19: =F18+E19*(1-IF(D19>0,(IF(A19>Penalty!$B$19,Penalty!$I$5,0)+G18)/D19,0)) -> 29.623113 | G19: =G18+E19*IF(D19>0,(IF(A19>Penalty!$B$19,Penalty!$I$5,0)+G18)/D19,0) -> 3.9991203
A20: =Penalty!$B$5+16 -> 46143 | B20: =IF(YEAR(A20)>2026,Penalty!$B$16/100,IFERROR(INDEX(Rates!$B$4:$E$15,MATCH(YEAR(A20),Rates!$A$4:$A$15,0),ROUNDUP(MONTH(A20)/3,0))/100,0.03)) -> 0.06 | C20: =MAX(0,Penalty!$B$4-SUMIFS(Penalty!$C$10:$C$12,Penalty!$B$10:$B$12,"<"&A20)) -> 12000 | D20: =IF(A20<=Penalty!$B$8,C20+F19+IF(A20>Penalty!$B$19,Penalty!$I$5,0)+G19,0) -> 13653.622 | E20: =D20*B20/365 -> 2.2444311 | F20: =F19+E20*(1-IF(D20>0,(IF(A20>Penalty!$B$19,Penalty!$I$5,0)+G19)/D20,0)) -> 31.600585 | G20: =G19+E20*IF(D20>0,(IF(A20>Penalty!$B$19,Penalty!$I$5,0)+G19)/D20,0) -> 4.266079
A21: =Penalty!$B$5+17 -> 46144 | B21: =IF(YEAR(A21)>2026,Penalty!$B$16/100,IFERROR(INDEX(Rates!$B$4:$E$15,MATCH(YEAR(A21),Rates!$A$4:$A$15,0),ROUNDUP(MONTH(A21)/3,0))/100,0.03)) -> 0.06 | C21: =MAX(0,Penalty!$B$4-SUMIFS(Penalty!$C$10:$C$12,Penalty!$B$10:$B$12,"<"&A21)) -> 12000 | D21: =IF(A21<=Penalty!$B$8,C21+F20+IF(A21>Penalty!$B$19,Penalty!$I$5,0)+G20,0) -> 13655.867 | E21: =D21*B21/365 -> 2.2448 | F21: =F20+E21*(1-IF(D21>0,(IF(A21>Penalty!$B$19,Penalty!$I$5,0)+G20)/D21,0)) -> 33.578383 | G21: =G20+E21*IF(D21>0,(IF(A21>Penalty!$B$19,Penalty!$I$5,0)+G20)/D21,0) -> 4.5330817
A22: =Penalty!$B$5+18 -> 46145 | B22: =IF(YEAR(A22)>2026,Penalty!$B$16/100,IFERROR(INDEX(Rates!$B$4:$E$15,MATCH(YEAR(A22),Rates!$A$4:$A$15,0),ROUNDUP(MONTH(A22)/3,0))/100,0.03)) -> 0.06 | C22: =MAX(0,Penalty!$B$4-SUMIFS(Penalty!$C$10:$C$12,Penalty!$B$10:$B$12,"<"&A22)) -> 12000 | D22: =IF(A22<=Penalty!$B$8,C22+F21+IF(A22>Penalty!$B$19,Penalty!$I$5,0)+G21,0) -> 13658.111 | E22: =D22*B22/365 -> 2.245169 | F22: =F21+E22*(1-IF(D22>0,(IF(A22>Penalty!$B$19,Penalty!$I$5,0)+G21)/D22,0)) -> 35.556505 | G22: =G21+E22*IF(D22>0,(IF(A22>Penalty!$B$19,Penalty!$I$5,0)+G21)/D22,0) -> 4.8001282
A23: =Penalty!$B$5+19 -> 46146 | B23: =IF(YEAR(A23)>2026,Penalty!$B$16/100,IFERROR(INDEX(Rates!$B$4:$E$15,MATCH(YEAR(A23),Rates!$A$4:$A$15,0),ROUNDUP(MONTH(A23)/3,0))/100,0.03)) -> 0.06 | C23: =MAX(0,Penalty!$B$4-SUMIFS(Penalty!$C$10:$C$12,Penalty!$B$10:$B$12,"<"&A23)) -> 12000 | D23: =IF(A23<=Penalty!$B$8,C23+F22+IF(A23>Penalty!$B$19,Penalty!$I$5,0)+G22,0) -> 13660.357 | E23: =D23*B23/365 -> 2.2455381 | F23: =F22+E23*(1-IF(D23>0,(IF(A23>Penalty!$B$19,Penalty!$I$5,0)+G22)/D23,0)) -> 37.534953 | G23: =G22+E23*IF(D23>0,(IF(A23>Penalty!$B$19,Penalty!$I$5,0)+G22)/D23,0) -> 5.0672186
A24: =Penalty!$B$5+20 -> 46147 | B24: =IF(YEAR(A24)>2026,Penalty!$B$16/100,IFERROR(INDEX(Rates!$B$4:$E$15,MATCH(YEAR(A24),Rates!$A$4:$A$15,0),ROUNDUP(MONTH(A24)/3,0))/100,0.03)) -> 0.06 | C24: =MAX(0,Penalty!$B$4-SUMIFS(Penalty!$C$10:$C$12,Penalty!$B$10:$B$12,"<"&A24)) -> 12000 | D24: =IF(A24<=Penalty!$B$8,C24+F23+IF(A24>Penalty!$B$19,Penalty!$I$5,0)+G23,0) -> 13662.602 | E24: =D24*B24/365 -> 2.2459072 | F24: =F23+E24*(1-IF(D24>0,(IF(A24>Penalty!$B$19,Penalty!$I$5,0)+G23)/D24,0)) -> 39.513726 | G24: =G23+E24*IF(D24>0,(IF(A24>Penalty!$B$19,Penalty!$I$5,0)+G23)/D24,0) -> 5.334353
A25: =Penalty!$B$5+21 -> 46148 | B25: =IF(YEAR(A25)>2026,Penalty!$B$16/100,IFERROR(INDEX(Rates!$B$4:$E$15,MATCH(YEAR(A25),Rates!$A$4:$A$15,0),ROUNDUP(MONTH(A25)/3,0))/100,0.03)) -> 0.06 | C25: =MAX(0,Penalty!$B$4-SUMIFS(Penalty!$C$10:$C$12,Penalty!$B$10:$B$12,"<"&A25)) -> 12000 | D25: =IF(A25<=Penalty!$B$8,C25+F24+IF(A25>Penalty!$B$19,Penalty!$I$5,0)+G24,0) -> 13664.848 | E25: =D25*B25/365 -> 2.2462764 | F25: =F24+E25*(1-IF(D25>0,(IF(A25>Penalty!$B$19,Penalty!$I$5,0)+G24)/D25,0)) -> 41.492824 | G25: =G24+E25*IF(D25>0,(IF(A25>Penalty!$B$19,Penalty!$I$5,0)+G24)/D25,0) -> 5.6015312
A26: =Penalty!$B$5+22 -> 46149 | B26: =IF(YEAR(A26)>2026,Penalty!$B$16/100,IFERROR(INDEX(Rates!$B$4:$E$15,MATCH(YEAR(A26),Rates!$A$4:$A$15,0),ROUNDUP(MONTH(A26)/3,0))/100,0.03)) -> 0.06 | C26: =MAX(0,Penalty!$B$4-SUMIFS(Penalty!$C$10:$C$12,Penalty!$B$10:$B$12,"<"&A26)) -> 12000 | D26: =IF(A26<=Penalty!$B$8,C26+F25+IF(A26>Penalty!$B$19,Penalty!$I$5,0)+G25,0) -> 13667.094 | E26: =D26*B26/365 -> 2.2466456 | F26: =F25+E26*(1-IF(D26>0,(IF(A26>Penalty!$B$19,Penalty!$I$5,0)+G25)/D26,0)) -> 43.472247 | G26: =G25+E26*IF(D26>0,(IF(A26>Penalty!$B$19,Penalty!$I$5,0)+G25)/D26,0) -> 5.8687534
A27: =Penalty!$B$5+23 -> 46150 | B27: =IF(YEAR(A27)>2026,Penalty!$B$16/100,IFERROR(INDEX(Rates!$B$4:$E$15,MATCH(YEAR(A27),Rates!$A$4:$A$15,0),ROUNDUP(MONTH(A27)/3,0))/100,0.03)) -> 0.06 | C27: =MAX(0,Penalty!$B$4-SUMIFS(Penalty!$C$10:$C$12,Penalty!$B$10:$B$12,"<"&A27)) -> 12000 | D27: =IF(A27<=Penalty!$B$8,C27+F26+IF(A27>Penalty!$B$19,Penalty!$I$5,0)+G26,0) -> 13669.341 | E27: =D27*B27/365 -> 2.247015 | F27: =F26+E27*(1-IF(D27>0,(IF(A27>Penalty!$B$19,Penalty!$I$5,0)+G26)/D27,0)) -> 45.451996 | G27: =G26+E27*IF(D27>0,(IF(A27>Penalty!$B$19,Penalty!$I$5,0)+G26)/D27,0) -> 6.1360195
A28: =Penalty!$B$5+24 -> 46151 | B28: =IF(YEAR(A28)>2026,Penalty!$B$16/100,IFERROR(INDEX(Rates!$B$4:$E$15,MATCH(YEAR(A28),Rates!$A$4:$A$15,0),ROUNDUP(MONTH(A28)/3,0))/100,0.03)) -> 0.06 | C28: =MAX(0,Penalty!$B$4-SUMIFS(Penalty!$C$10:$C$12,Penalty!$B$10:$B$12,"<"&A28)) -> 12000 | D28: =IF(A28<=Penalty!$B$8,C28+F27+IF(A28>Penalty!$B$19,Penalty!$I$5,0)+G27,0) -> 13671.588 | E28: =D28*B28/365 -> 2.2473843 | F28: =F27+E28*(1-IF(D28>0,(IF(A28>Penalty!$B$19,Penalty!$I$5,0)+G27)/D28,0)) -> 47.43207 | G28: =G27+E28*IF(D28>0,(IF(A28>Penalty!$B$19,Penalty!$I$5,0)+G27)/D28,0) -> 6.4033295
A29: =Penalty!$B$5+25 -> 46152 | B29: =IF(YEAR(A29)>2026,Penalty!$B$16/100,IFERROR(INDEX(Rates!$B$4:$E$15,MATCH(YEAR(A29),Rates!$A$4:$A$15,0),ROUNDUP(MONTH(A29)/3,0))/100,0.03)) -> 0.06 | C29: =MAX(0,Penalty!$B$4-SUMIFS(Penalty!$C$10:$C$12,Penalty!$B$10:$B$12,"<"&A29)) -> 12000 | D29: =IF(A29<=Penalty!$B$8,C29+F28+IF(A29>Penalty!$B$19,Penalty!$I$5,0)+G28,0) -> 13673.835 | E29: =D29*B29/365 -> 2.2477538 | F29: =F28+E29*(1-IF(D29>0,(IF(A29>Penalty!$B$19,Penalty!$I$5,0)+G28)/D29,0)) -> 49.41247 | G29: =G28+E29*IF(D29>0,(IF(A29>Penalty!$B$19,Penalty!$I$5,0)+G28)/D29,0) -> 6.6706835
A30: =Penalty!$B$5+26 -> 46153 | B30: =IF(YEAR(A30)>2026,Penalty!$B$16/100,IFERROR(INDEX(Rates!$B$4:$E$15,MATCH(YEAR(A30),Rates!$A$4:$A$15,0),ROUNDUP(MONTH(A30)/3,0))/100,0.03)) -> 0.06 | C30: =MAX(0,Penalty!$B$4-SUMIFS(Penalty!$C$10:$C$12,Penalty!$B$10:$B$12,"<"&A30)) -> 12000 | D30: =IF(A30<=Penalty!$B$8,C30+F29+IF(A30>Penalty!$B$19,Penalty!$I$5,0)+G29,0) -> 13676.083 | E30: =D30*B30/365 -> 2.2481233 | F30: =F29+E30*(1-IF(D30>0,(IF(A30>Penalty!$B$19,Penalty!$I$5,0)+G29)/D30,0)) -> 51.393196 | G30: =G29+E30*IF(D30>0,(IF(A30>Penalty!$B$19,Penalty!$I$5,0)+G29)/D30,0) -> 6.9380814
A31: =Penalty!$B$5+27 -> 46154 | B31: =IF(YEAR(A31)>2026,Penalty!$B$16/100,IFERROR(INDEX(Rates!$B$4:$E$15,MATCH(YEAR(A31),Rates!$A$4:$A$15,0),ROUNDUP(MONTH(A31)/3,0))/100,0.03)) -> 0.06 | C31: =MAX(0,Penalty!$B$4-SUMIFS(Penalty!$C$10:$C$12,Penalty!$B$10:$B$12,"<"&A31)) -> 12000 | D31: =IF(A31<=Penalty!$B$8,C31+F30+IF(A31>Penalty!$B$19,Penalty!$I$5,0)+G30,0) -> 13678.331 | E31: =D31*B31/365 -> 2.2484928 | F31: =F30+E31*(1-IF(D31>0,(IF(A31>Penalty!$B$19,Penalty!$I$5,0)+G30)/D31,0)) -> 53.374247 | G31: =G30+E31*IF(D31>0,(IF(A31>Penalty!$B$19,Penalty!$I$5,0)+G30)/D31,0) -> 7.2055233
A32: =Penalty!$B$5+28 -> 46155 | B32: =IF(YEAR(A32)>2026,Penalty!$B$16/100,IFERROR(INDEX(Rates!$B$4:$E$15,MATCH(YEAR(A32),Rates!$A$4:$A$15,0),ROUNDUP(MONTH(A32)/3,0))/100,0.03)) -> 0.06 | C32: =MAX(0,Penalty!$B$4-SUMIFS(Penalty!$C$10:$C$12,Penalty!$B$10:$B$12,"<"&A32)) -> 12000 | D32: =IF(A32<=Penalty!$B$8,C32+F31+IF(A32>Penalty!$B$19,Penalty!$I$5,0)+G31,0) -> 13680.58 | E32: =D32*B32/365 -> 2.2488624 | F32: =F31+E32*(1-IF(D32>0,(IF(A32>Penalty!$B$19,Penalty!$I$5,0)+G31)/D32,0)) -> 55.355623 | G32: =G31+E32*IF(D32>0,(IF(A32>Penalty!$B$19,Penalty!$I$5,0)+G31)/D32,0) -> 7.4730091
A33: =Penalty!$B$5+29 -> 46156 | B33: =IF(YEAR(A33)>2026,Penalty!$B$16/100,IFERROR(INDEX(Rates!$B$4:$E$15,MATCH(YEAR(A33),Rates!$A$4:$A$15,0),ROUNDUP(MONTH(A33)/3,0))/100,0.03)) -> 0.06 | C33: =MAX(0,Penalty!$B$4-SUMIFS(Penalty!$C$10:$C$12,Penalty!$B$10:$B$12,"<"&A33)) -> 12000 | D33: =IF(A33<=Penalty!$B$8,C33+F32+IF(A33>Penalty!$B$19,Penalty!$I$5,0)+G32,0) -> 13682.829 | E33: =D33*B33/365 -> 2.2492321 | F33: =F32+E33*(1-IF(D33>0,(IF(A33>Penalty!$B$19,Penalty!$I$5,0)+G32)/D33,0)) -> 57.337325 | G33: =G32+E33*IF(D33>0,(IF(A33>Penalty!$B$19,Penalty!$I$5,0)+G32)/D33,0) -> 7.7405389
A34: =Penalty!$B$5+30 -> 46157 | B34: =IF(YEAR(A34)>2026,Penalty!$B$16/100,IFERROR(INDEX(Rates!$B$4:$E$15,MATCH(YEAR(A34),Rates!$A$4:$A$15,0),ROUNDUP(MONTH(A34)/3,0))/100,0.03)) -> 0.06 | C34: =MAX(0,Penalty!$B$4-SUMIFS(Penalty!$C$10:$C$12,Penalty!$B$10:$B$12,"<"&A34)) -> 12000 | D34: =IF(A34<=Penalty!$B$8,C34+F33+IF(A34>Penalty!$B$19,Penalty!$I$5,0)+G33,0) -> 13685.078 | E34: =D34*B34/365 -> 2.2496018 | F34: =F33+E34*(1-IF(D34>0,(IF(A34>Penalty!$B$19,Penalty!$I$5,0)+G33)/D34,0)) -> 59.319353 | G34: =G33+E34*IF(D34>0,(IF(A34>Penalty!$B$19,Penalty!$I$5,0)+G33)/D34,0) -> 8.0081127
A35: =Penalty!$B$5+31 -> 46158 | B35: =IF(YEAR(A35)>2026,Penalty!$B$16/100,IFERROR(INDEX(Rates!$B$4:$E$15,MATCH(YEAR(A35),Rates!$A$4:$A$15,0),ROUNDUP(MONTH(A35)/3,0))/100,0.03)) -> 0.06 | C35: =MAX(0,Penalty!$B$4-SUMIFS(Penalty!$C$10:$C$12,Penalty!$B$10:$B$12,"<"&A35)) -> 12000 | D35: =IF(A35<=Penalty!$B$8,C35+F34+IF(A35>Penalty!$B$19,Penalty!$I$5,0)+G34,0) -> 13687.327 | E35: =D35*B35/365 -> 2.2499716 | F35: =F34+E35*(1-IF(D35>0,(IF(A35>Penalty!$B$19,Penalty!$I$5,0)+G34)/D35,0)) -> 61.301707 | G35: =G34+E35*IF(D35>0,(IF(A35>Penalty!$B$19,Penalty!$I$5,0)+G34)/D35,0) -> 8.2757305
A36: =Penalty!$B$5+32 -> 46159 | B36: =IF(YEAR(A36)>2026,Penalty!$B$16/100,IFERROR(INDEX(Rates!$B$4:$E$15,MATCH(YEAR(A36),Rates!$A$4:$A$15,0),ROUNDUP(MONTH(A36)/3,0))/100,0.03)) -> 0.06 | C36: =MAX(0,Penalty!$B$4-SUMIFS(Penalty!$C$10:$C$12,Penalty!$B$10:$B$12,"<"&A36)) -> 12000 | D36: =IF(A36<=Penalty!$B$8,C36+F35+IF(A36>Penalty!$B$19,Penalty!$I$5,0)+G35,0) -> 13689.577 | E36: =D36*B36/365 -> 2.2503415 | F36: =F35+E36*(1-IF(D36>0,(IF(A36>Penalty!$B$19,Penalty!$I$5,0)+G35)/D36,0)) -> 63.284387 | G36: =G35+E36*IF(D36>0,(IF(A36>Penalty!$B$19,Penalty!$I$5,0)+G35)/D36,0) -> 8.5433923
A37: =Penalty!$B$5+33 -> 46160 | B37: =IF(YEAR(A37)>2026,Penalty!$B$16/100,IFERROR(INDEX(Rates!$B$4:$E$15,MATCH(YEAR(A37),Rates!$A$4:$A$15,0),ROUNDUP(MONTH(A37)/3,0))/100,0.03)) -> 0.06 | C37: =MAX(0,Penalty!$B$4-SUMIFS(Penalty!$C$10:$C$12,Penalty!$B$10:$B$12,"<"&A37)) -> 12000 | D37: =IF(A37<=Penalty!$B$8,C37+F36+IF(A37>Penalty!$B$19,Penalty!$I$5,0)+G36,0) -> 13691.828 | E37: =D37*B37/365 -> 2.2507114 | F37: =F36+E37*(1-IF(D37>0,(IF(A37>Penalty!$B$19,Penalty!$I$5,0)+G36)/D37,0)) -> 65.267393 | G37: =G36+E37*IF(D37>0,(IF(A37>Penalty!$B$19,Penalty!$I$5,0)+G36)/D37,0) -> 8.811098
A38: =Penalty!$B$5+34 -> 46161 | B38: =IF(YEAR(A38)>2026,Penalty!$B$16/100,IFERROR(INDEX(Rates!$B$4:$E$15,MATCH(YEAR(A38),Rates!$A$4:$A$15,0),ROUNDUP(MONTH(A38)/3,0))/100,0.03)) -> 0.06 | C38: =MAX(0,Penalty!$B$4-SUMIFS(Penalty!$C$10:$C$12,Penalty!$B$10:$B$12,"<"&A38)) -> 12000 | D38: =IF(A38<=Penalty!$B$8,C38+F37+IF(A38>Penalty!$B$19,Penalty!$I$5,0)+G37,0) -> 13694.078 | E38: =D38*B38/365 -> 2.2510814 | F38: =F37+E38*(1-IF(D38>0,(IF(A38>Penalty!$B$19,Penalty!$I$5,0)+G37)/D38,0)) -> 67.250724 | G38: =G37+E38*IF(D38>0,(IF(A38>Penalty!$B$19,Penalty!$I$5,0)+G37)/D38,0) -> 9.0788478
A39: =Penalty!$B$5+35 -> 46162 | B39: =IF(YEAR(A39)>2026,Penalty!$B$16/100,IFERROR(INDEX(Rates!$B$4:$E$15,MATCH(YEAR(A39),Rates!$A$4:$A$15,0),ROUNDUP(MONTH(A39)/3,0))/100,0.03)) -> 0.06 | C39: =MAX(0,Penalty!$B$4-SUMIFS(Penalty!$C$10:$C$12,Penalty!$B$10:$B$12,"<"&A39)) -> 12000 | D39: =IF(A39<=Penalty!$B$8,C39+F38+IF(A39>Penalty!$B$19,Penalty!$I$5,0)+G38,0) -> 13696.33 | E39: =D39*B39/365 -> 2.2514514 | F39: =F38+E39*(1-IF(D39>0,(IF(A39>Penalty!$B$19,Penalty!$I$5,0)+G38)/D39,0)) -> 69.234382 | G39: =G38+E39*IF(D39>0,(IF(A39>Penalty!$B$19,Penalty!$I$5,0)+G38)/D39,0) -> 9.3466416
A40: =Penalty!$B$5+36 -> 46163 | B40: =IF(YEAR(A40)>2026,Penalty!$B$16/100,IFERROR(INDEX(Rates!$B$4:$E$15,MATCH(YEAR(A40),Rates!$A$4:$A$15,0),ROUNDUP(MONTH(A40)/3,0))/100,0.03)) -> 0.06 | C40: =MAX(0,Penalty!$B$4-SUMIFS(Penalty!$C$10:$C$12,Penalty!$B$10:$B$12,"<"&A40)) -> 12000 | D40: =IF(A40<=Penalty!$B$8,C40+F39+IF(A40>Penalty!$B$19,Penalty!$I$5,0)+G39,0) -> 13698.581 | E40: =D40*B40/365 -> 2.2518215 | F40: =F39+E40*(1-IF(D40>0,(IF(A40>Penalty!$B$19,Penalty!$I$5,0)+G39)/D40,0)) -> 71.218366 | G40: =G39+E40*IF(D40>0,(IF(A40>Penalty!$B$19,Penalty!$I$5,0)+G39)/D40,0) -> 9.6144794
A41: =Penalty!$B$5+37 -> 46164 | B41: =IF(YEAR(A41)>2026,Penalty!$B$16/100,IFERROR(INDEX(Rates!$B$4:$E$15,MATCH(YEAR(A41),Rates!$A$4:$A$15,0),ROUNDUP(MONTH(A41)/3,0))/100,0.03)) -> 0.06 | C41: =MAX(0,Penalty!$B$4-SUMIFS(Penalty!$C$10:$C$12,Penalty!$B$10:$B$12,"<"&A41)) -> 12000 | D41: =IF(A41<=Penalty!$B$8,C41+F40+IF(A41>Penalty!$B$19,Penalty!$I$5,0)+G40,0) -> 13700.833 | E41: =D41*B41/365 -> 2.2521917 | F41: =F40+E41*(1-IF(D41>0,(IF(A41>Penalty!$B$19,Penalty!$I$5,0)+G40)/D41,0)) -> 73.202676 | G41: =G40+E41*IF(D41>0,(IF(A41>Penalty!$B$19,Penalty!$I$5,0)+G40)/D41,0) -> 9.8823612
A42: =Penalty!$B$5+38 -> 46165 | B42: =IF(YEAR(A42)>2026,Penalty!$B$16/100,IFERROR(INDEX(Rates!$B$4:$E$15,MATCH(YEAR(A42),Rates!$A$4:$A$15,0),ROUNDUP(MONTH(A42)/3,0))/100,0.03)) -> 0.06 | C42: =MAX(0,Penalty!$B$4-SUMIFS(Penalty!$C$10:$C$12,Penalty!$B$10:$B$12,"<"&A42)) -> 12000 | D42: =IF(A42<=Penalty!$B$8,C42+F41+IF(A42>Penalty!$B$19,Penalty!$I$5,0)+G41,0) -> 13703.085 | E42: =D42*B42/365 -> 2.2525619 | F42: =F41+E42*(1-IF(D42>0,(IF(A42>Penalty!$B$19,Penalty!$I$5,0)+G41)/D42,0)) -> 75.187312 | G42: =G41+E42*IF(D42>0,(IF(A42>Penalty!$B$19,Penalty!$I$5,0)+G41)/D42,0) -> 10.150287
...

Sheet Rates
A1: IRS underpayment rates for individuals (percent, by quarter)
A3: Year | B3: Q1 | C3: Q2 | D3: Q3 | E3: Q4
A4: 2015 | B4: 3 | C4: 3 | D4: 3 | E4: 3
A5: 2016 | B5: 3 | C5: 4 | D5: 4 | E5: 4
A6: 2017 | B6: 4 | C6: 4 | D6: 4 | E6: 4
A7: 2018 | B7: 4 | C7: 5 | D7: 5 | E7: 5
A8: 2019 | B8: 6 | C8: 6 | D8: 5 | E8: 5
A9: 2020 | B9: 5 | C9: 5 | D9: 3 | E9: 3
A10: 2021 | B10: 3 | C10: 3 | D10: 3 | E10: 3
A11: 2022 | B11: 3 | C11: 4 | D11: 5 | E11: 6
A12: 2023 | B12: 7 | C12: 7 | D12: 7 | E12: 8
A13: 2024 | B13: 8 | C13: 8 | D13: 8 | E13: 8
A14: 2025 | B14: 7 | C14: 7 | D14: 7 | E14: 7
A15: 2026 | B15: 7 | C15: 6 | D15: 7 | E15: 7
A17: Source: IRS quarterly interest rates (individual overpayment and underpayment rate = federal short-term rate + 3 points). Fourth quarter 2026: 7% (IR-2026-98).
