Workbook

Sheet Instructions
A1: Freelance rate workbook (2026 U.S. federal tax)
A2: Calcority. The hourly, day and project rate that delivers your take-home after the real tax stack, and the rate that matches a job.
A4: How to use
A5: 1 | B5: Rate tab: overwrite the example values with your own target take-home, costs, time and tax picture. The results are the invoiced revenue you need and the hourly, day, week and month rates.
A6: 2 | B6: Solver tab: the tax stack (self-employment tax, the QBI deduction, federal income tax and state tax) is worked out for a trial revenue, and the trial is corrected fifteen times until the take-home matches your target. Nothing to click.
A7: 3 | B7: The second solver block finds the revenue that leaves the same take-home as a job at the salary you enter, so you can see the multiple of the job’s hourly wage.
A8: 4 | B8: Tax 2026 tab: brackets, standard deductions, Social Security wage base, QBI thresholds. Update it each year.
A9: Colors | B9: Blue on yellow = you type. Black = formula. The starting values are illustrations.
A10: Definitions
A11: Take-home | B11: What is left to spend after business expenses, tax, your own health insurance and retirement savings.
A12: Invoiced revenue | B12: Collected revenue ÷ (1 − platform fees − uncollected invoices).
A13: Hourly rate | B13: Invoiced revenue ÷ billable hours, where billable hours = (52 − weeks off) × hours per week × billable share.
A14: Not modeled | B14: Local taxes, an S-corporation election, credits, a spouse’s separate return, benefits beyond salary in the job match.
A15: Disclaimer | B15: Planning aid, not tax, legal or financial advice. The QBI deduction is treated as for a service business (phase-out above the threshold).

Sheet Rate
A1: Freelance rate (example values: overwrite)
A3: Inputs
A4: Take-home per year | B4: 90000
A5: Filing status | B5: Single
A6: Other taxable income in the household | B6: 0
A7: State income tax rate | B7: 0.05
A8: Business expenses per year | B8: 9000
A9: Health insurance you pay | B9: 7200
A10: Retirement savings | B10: 10000
A11: Platform and payment fees | B11: 0.03
A12: Invoices you never collect | B12: 0.02
A13: Weeks off | B13: 6
A14: Hours you work in a week | B14: 40
A15: Share of those hours you bill | B15: 0.6
A16: Hours in a billed day | B16: 8
A17: Flat tax rate you might guess | B17: 0.3
... A20: Scope buffer | B20: 0.2
A21: Filing status position | B21: =MATCH(B5,'Tax 2026'!$A$13:$A$16,0) -> 1
A22: Standard deduction | B22: =INDEX('Tax 2026'!$C$13:$C$16,B21) -> 16100
A24: Time
A25: Weeks worked | B25: =52-B13 -> 46
A26: Billable hours per year | B26: =B25*B14*B15 -> 1104
A27: Billable days per year | B27: =B26/B16 -> 138
A29: Results
A30: Collected revenue needed (from the solver) | B30: =Solver!B20 -> 157884.62
A31: Invoiced revenue needed | B31: =B30/(1-B11-B12) -> 166194.34
A32: Hourly rate | B32: =B31/B26 -> 150.53835
A33: Day rate | B33: =B32*B16 -> 1204.3068
A34: Week rate (per week worked) | B34: =B31/B25 -> 3612.9203
A35: Month rate | B35: =B31/12 -> 13849.528
A36: Total tax on the business income | B36: =Solver!U20 -> 41684.618
A37: of which self-employment tax | B37: =Solver!H20 -> 21036.727
A38: of which federal income tax | B38: =Solver!S20 -> 13203.661
A39: of which state tax | B39: =Solver!T20 -> 7444.2309
A40: Tax as a share of net profit | B40: =IF(Solver!C20>0,B36/Solver!C20,0) -> 0.27997935
A41: Invoiced per $1 of take-home | B41: =B31/B4 -> 1.8466037
A42: Check: take-home at that revenue | B42: =Solver!V20 -> 90000
A44: The flat-rate shortcut
A45: (Take-home + expenses) ÷ (1 − flat rate) | B45: =(B4+B8)/(1-B17) -> 141428.57
A46: Hourly rate that gives | B46: =B45/B26 -> 128.10559
...

Sheet Solver
A1: Solver: trial revenue corrected until take-home = target
A4: A. Revenue that leaves your target take-home
A5: n | B5: Collected revenue (trial) | C5: Net profit | D5: SE base | E5: Social Security | F5: Medicare | G5: Additional Medicare | H5: SE tax | I5: Half of SE tax | J5: Health deduction | K5: Retirement deduction | L5: AGI | M5: Taxable before QBI | N5: QBI base | O5: QBI before minimum | P5: QBI deduction | Q5: Taxable income | R5: Income tax | S5: Income tax on business income | T5: State tax | U5: Total tax | V5: Take-home | W5: Next trial
A6: 0 | B6: =(Rate!B4+Rate!B8+Rate!B9+Rate!B10)/0.7 -> 166000 | C6: =MAX(0,B6-Rate!$B$8) -> 157000 | D6: =IF(C6*'Tax 2026'!$B$23>='Tax 2026'!$B$24,C6*'Tax 2026'!$B$23,0) -> 144989.5 | E6: =MIN(D6,'Tax 2026'!$B$19)*'Tax 2026'!$B$20 -> 17978.698 | F6: =D6*'Tax 2026'!$B$21 -> 4204.6955 | G6: =MAX(0,MIN(D6,D6-INDEX('Tax 2026'!$D$13:$D$16,Rate!$B$21)))*'Tax 2026'!$B$22 -> 0 | H6: =E6+F6+G6 -> 22183.393 | I6: =(E6+F6)/2 -> 11091.697 | J6: =MIN(Rate!$B$9,MAX(0,C6-I6)) -> 7200 | K6: =MIN(Rate!$B$10,MAX(0,C6-I6-J6)) -> 10000 | L6: =Rate!$B$6+C6-I6-J6-K6 -> 128708.3 | M6: =MAX(0,L6-Rate!$B$22) -> 112608.3 | N6: =MAX(0,C6-I6-J6-K6) -> 128708.3 | O6: =IF(N6<=0,0,IF(M6<=INDEX('Tax 2026'!$E$13:$E$16,Rate!$B$21),MIN('Tax 2026'!$B$25*N6,'Tax 2026'!$B$25*M6),IF(M6<INDEX('Tax 2026'!$E$13:$E$16,Rate!$B$21)+INDEX('Tax 2026'!$F$13:$F$16,Rate!$B$21),MIN('Tax 2026'!$B$25*N6*(1-(M6-INDEX('Tax 2026'!$E$13:$E$16,Rate!$B$21))/INDEX('Tax 2026'!$F$13:$F$16,Rate!$B$21)),'Tax 2026'!$B$25*M6),0))) -> 22521.661 | P6: =IF(AND(N6>='Tax 2026'!$B$27,O6<'Tax 2026'!$B$26),MIN('Tax 2026'!$B$26,M6),O6) -> 22521.661 | Q6: =MAX(0,M6-P6) -> 90086.643 | R6: =SUMPRODUCT((Q6>INDEX('Tax 2026'!$C$4:$F$10,0,Rate!$B$21))*(Q6-INDEX('Tax 2026'!$C$4:$F$10,0,Rate!$B$21))*'Tax 2026'!$G$4:$G$10) -> 14531.061 | S6: =R6-SUMPRODUCT((MAX(0,Rate!$B$6-Rate!$B$22)>INDEX('Tax 2026'!$C$4:$F$10,0,Rate!$B$21))*(MAX(0,Rate!$B$6-Rate!$B$22)-INDEX('Tax 2026'!$C$4:$F$10,0,Rate!$B$21))*'Tax 2026'!$G$4:$G$10) -> 14531.061 | T6: =C6*Rate!$B$7 -> 7850 | U6: =S6+H6+T6 -> 44564.455 | V6: =B6-Rate!$B$8-U6-Rate!$B$9-Rate!$B$10 -> 95235.545 | W6: =B6+(Rate!$B$4-V6)/(1-0.35) -> 157945.32
A7: 1 | B7: =W6 -> 157945.32 | C7: =MAX(0,B7-Rate!$B$8) -> 148945.32 | D7: =IF(C7*'Tax 2026'!$B$23>='Tax 2026'!$B$24,C7*'Tax 2026'!$B$23,0) -> 137551 | E7: =MIN(D7,'Tax 2026'!$B$19)*'Tax 2026'!$B$20 -> 17056.324 | F7: =D7*'Tax 2026'!$B$21 -> 3988.979 | G7: =MAX(0,MIN(D7,D7-INDEX('Tax 2026'!$D$13:$D$16,Rate!$B$21)))*'Tax 2026'!$B$22 -> 0 | H7: =E7+F7+G7 -> 21045.303 | I7: =(E7+F7)/2 -> 10522.651 | J7: =MIN(Rate!$B$9,MAX(0,C7-I7)) -> 7200 | K7: =MIN(Rate!$B$10,MAX(0,C7-I7-J7)) -> 10000 | L7: =Rate!$B$6+C7-I7-J7-K7 -> 121222.66 | M7: =MAX(0,L7-Rate!$B$22) -> 105122.66 | N7: =MAX(0,C7-I7-J7-K7) -> 121222.66 | O7: =IF(N7<=0,0,IF(M7<=INDEX('Tax 2026'!$E$13:$E$16,Rate!$B$21),MIN('Tax 2026'!$B$25*N7,'Tax 2026'!$B$25*M7),IF(M7<INDEX('Tax 2026'!$E$13:$E$16,Rate!$B$21)+INDEX('Tax 2026'!$F$13:$F$16,Rate!$B$21),MIN('Tax 2026'!$B$25*N7*(1-(M7-INDEX('Tax 2026'!$E$13:$E$16,Rate!$B$21))/INDEX('Tax 2026'!$F$13:$F$16,Rate!$B$21)),'Tax 2026'!$B$25*M7),0))) -> 21024.533 | P7: =IF(AND(N7>='Tax 2026'!$B$27,O7<'Tax 2026'!$B$26),MIN('Tax 2026'!$B$26,M7),O7) -> 21024.533 | Q7: =MAX(0,M7-P7) -> 84098.131 | R7: =SUMPRODUCT((Q7>INDEX('Tax 2026'!$C$4:$F$10,0,Rate!$B$21))*(Q7-INDEX('Tax 2026'!$C$4:$F$10,0,Rate!$B$21))*'Tax 2026'!$G$4:$G$10) -> 13213.589 | S7: =R7-SUMPRODUCT((MAX(0,Rate!$B$6-Rate!$B$22)>INDEX('Tax 2026'!$C$4:$F$10,0,Rate!$B$21))*(MAX(0,Rate!$B$6-Rate!$B$22)-INDEX('Tax 2026'!$C$4:$F$10,0,Rate!$B$21))*'Tax 2026'!$G$4:$G$10) -> 13213.589 | T7: =C7*Rate!$B$7 -> 7447.2658 | U7: =S7+H7+T7 -> 41706.157 | V7: =B7-Rate!$B$8-U7-Rate!$B$9-Rate!$B$10 -> 90039.158 | W7: =B7+(Rate!$B$4-V7)/(1-0.35) -> 157885.07
A8: 2 | B8: =W7 -> 157885.07 | C8: =MAX(0,B8-Rate!$B$8) -> 148885.07 | D8: =IF(C8*'Tax 2026'!$B$23>='Tax 2026'!$B$24,C8*'Tax 2026'!$B$23,0) -> 137495.36 | E8: =MIN(D8,'Tax 2026'!$B$19)*'Tax 2026'!$B$20 -> 17049.425 | F8: =D8*'Tax 2026'!$B$21 -> 3987.3656 | G8: =MAX(0,MIN(D8,D8-INDEX('Tax 2026'!$D$13:$D$16,Rate!$B$21)))*'Tax 2026'!$B$22 -> 0 | H8: =E8+F8+G8 -> 21036.791 | I8: =(E8+F8)/2 -> 10518.395 | J8: =MIN(Rate!$B$9,MAX(0,C8-I8)) -> 7200 | K8: =MIN(Rate!$B$10,MAX(0,C8-I8-J8)) -> 10000 | L8: =Rate!$B$6+C8-I8-J8-K8 -> 121166.68 | M8: =MAX(0,L8-Rate!$B$22) -> 105066.68 | N8: =MAX(0,C8-I8-J8-K8) -> 121166.68 | O8: =IF(N8<=0,0,IF(M8<=INDEX('Tax 2026'!$E$13:$E$16,Rate!$B$21),MIN('Tax 2026'!$B$25*N8,'Tax 2026'!$B$25*M8),IF(M8<INDEX('Tax 2026'!$E$13:$E$16,Rate!$B$21)+INDEX('Tax 2026'!$F$13:$F$16,Rate!$B$21),MIN('Tax 2026'!$B$25*N8*(1-(M8-INDEX('Tax 2026'!$E$13:$E$16,Rate!$B$21))/INDEX('Tax 2026'!$F$13:$F$16,Rate!$B$21)),'Tax 2026'!$B$25*M8),0))) -> 21013.335 | P8: =IF(AND(N8>='Tax 2026'!$B$27,O8<'Tax 2026'!$B$26),MIN('Tax 2026'!$B$26,M8),O8) -> 21013.335 | Q8: =MAX(0,M8-P8) -> 84053.342 | R8: =SUMPRODUCT((Q8>INDEX('Tax 2026'!$C$4:$F$10,0,Rate!$B$21))*(Q8-INDEX('Tax 2026'!$C$4:$F$10,0,Rate!$B$21))*'Tax 2026'!$G$4:$G$10) -> 13203.735 | S8: =R8-SUMPRODUCT((MAX(0,Rate!$B$6-Rate!$B$22)>INDEX('Tax 2026'!$C$4:$F$10,0,Rate!$B$21))*(MAX(0,Rate!$B$6-Rate!$B$22)-INDEX('Tax 2026'!$C$4:$F$10,0,Rate!$B$21))*'Tax 2026'!$G$4:$G$10) -> 13203.735 | T8: =C8*Rate!$B$7 -> 7444.2536 | U8: =S8+H8+T8 -> 41684.78 | V8: =B8-Rate!$B$8-U8-Rate!$B$9-Rate!$B$10 -> 90000.293 | W8: =B8+(Rate!$B$4-V8)/(1-0.35) -> 157884.62
A9: 3 | B9: =W8 -> 157884.62 | C9: =MAX(0,B9-Rate!$B$8) -> 148884.62 | D9: =IF(C9*'Tax 2026'!$B$23>='Tax 2026'!$B$24,C9*'Tax 2026'!$B$23,0) -> 137494.95 | E9: =MIN(D9,'Tax 2026'!$B$19)*'Tax 2026'!$B$20 -> 17049.374 | F9: =D9*'Tax 2026'!$B$21 -> 3987.3535 | G9: =MAX(0,MIN(D9,D9-INDEX('Tax 2026'!$D$13:$D$16,Rate!$B$21)))*'Tax 2026'!$B$22 -> 0 | H9: =E9+F9+G9 -> 21036.727 | I9: =(E9+F9)/2 -> 10518.364 | J9: =MIN(Rate!$B$9,MAX(0,C9-I9)) -> 7200 | K9: =MIN(Rate!$B$10,MAX(0,C9-I9-J9)) -> 10000 | L9: =Rate!$B$6+C9-I9-J9-K9 -> 121166.26 | M9: =MAX(0,L9-Rate!$B$22) -> 105066.26 | N9: =MAX(0,C9-I9-J9-K9) -> 121166.26 | O9: =IF(N9<=0,0,IF(M9<=INDEX('Tax 2026'!$E$13:$E$16,Rate!$B$21),MIN('Tax 2026'!$B$25*N9,'Tax 2026'!$B$25*M9),IF(M9<INDEX('Tax 2026'!$E$13:$E$16,Rate!$B$21)+INDEX('Tax 2026'!$F$13:$F$16,Rate!$B$21),MIN('Tax 2026'!$B$25*N9*(1-(M9-INDEX('Tax 2026'!$E$13:$E$16,Rate!$B$21))/INDEX('Tax 2026'!$F$13:$F$16,Rate!$B$21)),'Tax 2026'!$B$25*M9),0))) -> 21013.252 | P9: =IF(AND(N9>='Tax 2026'!$B$27,O9<'Tax 2026'!$B$26),MIN('Tax 2026'!$B$26,M9),O9) -> 21013.252 | Q9: =MAX(0,M9-P9) -> 84053.007 | R9: =SUMPRODUCT((Q9>INDEX('Tax 2026'!$C$4:$F$10,0,Rate!$B$21))*(Q9-INDEX('Tax 2026'!$C$4:$F$10,0,Rate!$B$21))*'Tax 2026'!$G$4:$G$10) -> 13203.661 | S9: =R9-SUMPRODUCT((MAX(0,Rate!$B$6-Rate!$B$22)>INDEX('Tax 2026'!$C$4:$F$10,0,Rate!$B$21))*(MAX(0,Rate!$B$6-Rate!$B$22)-INDEX('Tax 2026'!$C$4:$F$10,0,Rate!$B$21))*'Tax 2026'!$G$4:$G$10) -> 13203.661 | T9: =C9*Rate!$B$7 -> 7444.2311 | U9: =S9+H9+T9 -> 41684.62 | V9: =B9-Rate!$B$8-U9-Rate!$B$9-Rate!$B$10 -> 90000.002 | W9: =B9+(Rate!$B$4-V9)/(1-0.35) -> 157884.62
A10: 4 | B10: =W9 -> 157884.62 | C10: =MAX(0,B10-Rate!$B$8) -> 148884.62 | D10: =IF(C10*'Tax 2026'!$B$23>='Tax 2026'!$B$24,C10*'Tax 2026'!$B$23,0) -> 137494.95 | E10: =MIN(D10,'Tax 2026'!$B$19)*'Tax 2026'!$B$20 -> 17049.373 | F10: =D10*'Tax 2026'!$B$21 -> 3987.3534 | G10: =MAX(0,MIN(D10,D10-INDEX('Tax 2026'!$D$13:$D$16,Rate!$B$21)))*'Tax 2026'!$B$22 -> 0 | H10: =E10+F10+G10 -> 21036.727 | I10: =(E10+F10)/2 -> 10518.363 | J10: =MIN(Rate!$B$9,MAX(0,C10-I10)) -> 7200 | K10: =MIN(Rate!$B$10,MAX(0,C10-I10-J10)) -> 10000 | L10: =Rate!$B$6+C10-I10-J10-K10 -> 121166.26 | M10: =MAX(0,L10-Rate!$B$22) -> 105066.26 | N10: =MAX(0,C10-I10-J10-K10) -> 121166.26 | O10: =IF(N10<=0,0,IF(M10<=INDEX('Tax 2026'!$E$13:$E$16,Rate!$B$21),MIN('Tax 2026'!$B$25*N10,'Tax 2026'!$B$25*M10),IF(M10<INDEX('Tax 2026'!$E$13:$E$16,Rate!$B$21)+INDEX('Tax 2026'!$F$13:$F$16,Rate!$B$21),MIN('Tax 2026'!$B$25*N10*(1-(M10-INDEX('Tax 2026'!$E$13:$E$16,Rate!$B$21))/INDEX('Tax 2026'!$F$13:$F$16,Rate!$B$21)),'Tax 2026'!$B$25*M10),0))) -> 21013.251 | P10: =IF(AND(N10>='Tax 2026'!$B$27,O10<'Tax 2026'!$B$26),MIN('Tax 2026'!$B$26,M10),O10) -> 21013.251 | Q10: =MAX(0,M10-P10) -> 84053.004 | R10: =SUMPRODUCT((Q10>INDEX('Tax 2026'!$C$4:$F$10,0,Rate!$B$21))*(Q10-INDEX('Tax 2026'!$C$4:$F$10,0,Rate!$B$21))*'Tax 2026'!$G$4:$G$10) -> 13203.661 | S10: =R10-SUMPRODUCT((MAX(0,Rate!$B$6-Rate!$B$22)>INDEX('Tax 2026'!$C$4:$F$10,0,Rate!$B$21))*(MAX(0,Rate!$B$6-Rate!$B$22)-INDEX('Tax 2026'!$C$4:$F$10,0,Rate!$B$21))*'Tax 2026'!$G$4:$G$10) -> 13203.661 | T10: =C10*Rate!$B$7 -> 7444.2309 | U10: =S10+H10+T10 -> 41684.618 | V10: =B10-Rate!$B$8-U10-Rate!$B$9-Rate!$B$10 -> 90000 | W10: =B10+(Rate!$B$4-V10)/(1-0.35) -> 157884.62
A11: 5 | B11: =W10 -> 157884.62 | C11: =MAX(0,B11-Rate!$B$8) -> 148884.62 | D11: =IF(C11*'Tax 2026'!$B$23>='Tax 2026'!$B$24,C11*'Tax 2026'!$B$23,0) -> 137494.95 | E11: =MIN(D11,'Tax 2026'!$B$19)*'Tax 2026'!$B$20 -> 17049.373 | F11: =D11*'Tax 2026'!$B$21 -> 3987.3534 | G11: =MAX(0,MIN(D11,D11-INDEX('Tax 2026'!$D$13:$D$16,Rate!$B$21)))*'Tax 2026'!$B$22 -> 0 | H11: =E11+F11+G11 -> 21036.727 | I11: =(E11+F11)/2 -> 10518.363 | J11: =MIN(Rate!$B$9,MAX(0,C11-I11)) -> 7200 | K11: =MIN(Rate!$B$10,MAX(0,C11-I11-J11)) -> 10000 | L11: =Rate!$B$6+C11-I11-J11-K11 -> 121166.26 | M11: =MAX(0,L11-Rate!$B$22) -> 105066.26 | N11: =MAX(0,C11-I11-J11-K11) -> 121166.26 | O11: =IF(N11<=0,0,IF(M11<=INDEX('Tax 2026'!$E$13:$E$16,Rate!$B$21),MIN('Tax 2026'!$B$25*N11,'Tax 2026'!$B$25*M11),IF(M11<INDEX('Tax 2026'!$E$13:$E$16,Rate!$B$21)+INDEX('Tax 2026'!$F$13:$F$16,Rate!$B$21),MIN('Tax 2026'!$B$25*N11*(1-(M11-INDEX('Tax 2026'!$E$13:$E$16,Rate!$B$21))/INDEX('Tax 2026'!$F$13:$F$16,Rate!$B$21)),'Tax 2026'!$B$25*M11),0))) -> 21013.251 | P11: =IF(AND(N11>='Tax 2026'!$B$27,O11<'Tax 2026'!$B$26),MIN('Tax 2026'!$B$26,M11),O11) -> 21013.251 | Q11: =MAX(0,M11-P11) -> 84053.004 | R11: =SUMPRODUCT((Q11>INDEX('Tax 2026'!$C$4:$F$10,0,Rate!$B$21))*(Q11-INDEX('Tax 2026'!$C$4:$F$10,0,Rate!$B$21))*'Tax 2026'!$G$4:$G$10) -> 13203.661 | S11: =R11-SUMPRODUCT((MAX(0,Rate!$B$6-Rate!$B$22)>INDEX('Tax 2026'!$C$4:$F$10,0,Rate!$B$21))*(MAX(0,Rate!$B$6-Rate!$B$22)-INDEX('Tax 2026'!$C$4:$F$10,0,Rate!$B$21))*'Tax 2026'!$G$4:$G$10) -> 13203.661 | T11: =C11*Rate!$B$7 -> 7444.2309 | U11: =S11+H11+T11 -> 41684.618 | V11: =B11-Rate!$B$8-U11-Rate!$B$9-Rate!$B$10 -> 90000 | W11: =B11+(Rate!$B$4-V11)/(1-0.35) -> 157884.62
A12: 6 | B12: =W11 -> 157884.62 | C12: =MAX(0,B12-Rate!$B$8) -> 148884.62 | D12: =IF(C12*'Tax 2026'!$B$23>='Tax 2026'!$B$24,C12*'Tax 2026'!$B$23,0) -> 137494.95 | E12: =MIN(D12,'Tax 2026'!$B$19)*'Tax 2026'!$B$20 -> 17049.373 | F12: =D12*'Tax 2026'!$B$21 -> 3987.3534 | G12: =MAX(0,MIN(D12,D12-INDEX('Tax 2026'!$D$13:$D$16,Rate!$B$21)))*'Tax 2026'!$B$22 -> 0 | H12: =E12+F12+G12 -> 21036.727 | I12: =(E12+F12)/2 -> 10518.363 | J12: =MIN(Rate!$B$9,MAX(0,C12-I12)) -> 7200 | K12: =MIN(Rate!$B$10,MAX(0,C12-I12-J12)) -> 10000 | L12: =Rate!$B$6+C12-I12-J12-K12 -> 121166.26 | M12: =MAX(0,L12-Rate!$B$22) -> 105066.26 | N12: =MAX(0,C12-I12-J12-K12) -> 121166.26 | O12: =IF(N12<=0,0,IF(M12<=INDEX('Tax 2026'!$E$13:$E$16,Rate!$B$21),MIN('Tax 2026'!$B$25*N12,'Tax 2026'!$B$25*M12),IF(M12<INDEX('Tax 2026'!$E$13:$E$16,Rate!$B$21)+INDEX('Tax 2026'!$F$13:$F$16,Rate!$B$21),MIN('Tax 2026'!$B$25*N12*(1-(M12-INDEX('Tax 2026'!$E$13:$E$16,Rate!$B$21))/INDEX('Tax 2026'!$F$13:$F$16,Rate!$B$21)),'Tax 2026'!$B$25*M12),0))) -> 21013.251 | P12: =IF(AND(N12>='Tax 2026'!$B$27,O12<'Tax 2026'!$B$26),MIN('Tax 2026'!$B$26,M12),O12) -> 21013.251 | Q12: =MAX(0,M12-P12) -> 84053.004 | R12: =SUMPRODUCT((Q12>INDEX('Tax 2026'!$C$4:$F$10,0,Rate!$B$21))*(Q12-INDEX('Tax 2026'!$C$4:$F$10,0,Rate!$B$21))*'Tax 2026'!$G$4:$G$10) -> 13203.661 | S12: =R12-SUMPRODUCT((MAX(0,Rate!$B$6-Rate!$B$22)>INDEX('Tax 2026'!$C$4:$F$10,0,Rate!$B$21))*(MAX(0,Rate!$B$6-Rate!$B$22)-INDEX('Tax 2026'!$C$4:$F$10,0,Rate!$B$21))*'Tax 2026'!$G$4:$G$10) -> 13203.661 | T12: =C12*Rate!$B$7 -> 7444.2309 | U12: =S12+H12+T12 -> 41684.618 | V12: =B12-Rate!$B$8-U12-Rate!$B$9-Rate!$B$10 -> 90000 | W12: =B12+(Rate!$B$4-V12)/(1-0.35) -> 157884.62
A13: 7 | B13: =W12 -> 157884.62 | C13: =MAX(0,B13-Rate!$B$8) -> 148884.62 | D13: =IF(C13*'Tax 2026'!$B$23>='Tax 2026'!$B$24,C13*'Tax 2026'!$B$23,0) -> 137494.95 | E13: =MIN(D13,'Tax 2026'!$B$19)*'Tax 2026'!$B$20 -> 17049.373 | F13: =D13*'Tax 2026'!$B$21 -> 3987.3534 | G13: =MAX(0,MIN(D13,D13-INDEX('Tax 2026'!$D$13:$D$16,Rate!$B$21)))*'Tax 2026'!$B$22 -> 0 | H13: =E13+F13+G13 -> 21036.727 | I13: =(E13+F13)/2 -> 10518.363 | J13: =MIN(Rate!$B$9,MAX(0,C13-I13)) -> 7200 | K13: =MIN(Rate!$B$10,MAX(0,C13-I13-J13)) -> 10000 | L13: =Rate!$B$6+C13-I13-J13-K13 -> 121166.26 | M13: =MAX(0,L13-Rate!$B$22) -> 105066.26 | N13: =MAX(0,C13-I13-J13-K13) -> 121166.26 | O13: =IF(N13<=0,0,IF(M13<=INDEX('Tax 2026'!$E$13:$E$16,Rate!$B$21),MIN('Tax 2026'!$B$25*N13,'Tax 2026'!$B$25*M13),IF(M13<INDEX('Tax 2026'!$E$13:$E$16,Rate!$B$21)+INDEX('Tax 2026'!$F$13:$F$16,Rate!$B$21),MIN('Tax 2026'!$B$25*N13*(1-(M13-INDEX('Tax 2026'!$E$13:$E$16,Rate!$B$21))/INDEX('Tax 2026'!$F$13:$F$16,Rate!$B$21)),'Tax 2026'!$B$25*M13),0))) -> 21013.251 | P13: =IF(AND(N13>='Tax 2026'!$B$27,O13<'Tax 2026'!$B$26),MIN('Tax 2026'!$B$26,M13),O13) -> 21013.251 | Q13: =MAX(0,M13-P13) -> 84053.004 | R13: =SUMPRODUCT((Q13>INDEX('Tax 2026'!$C$4:$F$10,0,Rate!$B$21))*(Q13-INDEX('Tax 2026'!$C$4:$F$10,0,Rate!$B$21))*'Tax 2026'!$G$4:$G$10) -> 13203.661 | S13: =R13-SUMPRODUCT((MAX(0,Rate!$B$6-Rate!$B$22)>INDEX('Tax 2026'!$C$4:$F$10,0,Rate!$B$21))*(MAX(0,Rate!$B$6-Rate!$B$22)-INDEX('Tax 2026'!$C$4:$F$10,0,Rate!$B$21))*'Tax 2026'!$G$4:$G$10) -> 13203.661 | T13: =C13*Rate!$B$7 -> 7444.2309 | U13: =S13+H13+T13 -> 41684.618 | V13: =B13-Rate!$B$8-U13-Rate!$B$9-Rate!$B$10 -> 90000 | W13: =B13+(Rate!$B$4-V13)/(1-0.35) -> 157884.62
A14: 8 | B14: =W13 -> 157884.62 | C14: =MAX(0,B14-Rate!$B$8) -> 148884.62 | D14: =IF(C14*'Tax 2026'!$B$23>='Tax 2026'!$B$24,C14*'Tax 2026'!$B$23,0) -> 137494.95 | E14: =MIN(D14,'Tax 2026'!$B$19)*'Tax 2026'!$B$20 -> 17049.373 | F14: =D14*'Tax 2026'!$B$21 -> 3987.3534 | G14: =MAX(0,MIN(D14,D14-INDEX('Tax 2026'!$D$13:$D$16,Rate!$B$21)))*'Tax 2026'!$B$22 -> 0 | H14: =E14+F14+G14 -> 21036.727 | I14: =(E14+F14)/2 -> 10518.363 | J14: =MIN(Rate!$B$9,MAX(0,C14-I14)) -> 7200 | K14: =MIN(Rate!$B$10,MAX(0,C14-I14-J14)) -> 10000 | L14: =Rate!$B$6+C14-I14-J14-K14 -> 121166.26 | M14: =MAX(0,L14-Rate!$B$22) -> 105066.26 | N14: =MAX(0,C14-I14-J14-K14) -> 121166.26 | O14: =IF(N14<=0,0,IF(M14<=INDEX('Tax 2026'!$E$13:$E$16,Rate!$B$21),MIN('Tax 2026'!$B$25*N14,'Tax 2026'!$B$25*M14),IF(M14<INDEX('Tax 2026'!$E$13:$E$16,Rate!$B$21)+INDEX('Tax 2026'!$F$13:$F$16,Rate!$B$21),MIN('Tax 2026'!$B$25*N14*(1-(M14-INDEX('Tax 2026'!$E$13:$E$16,Rate!$B$21))/INDEX('Tax 2026'!$F$13:$F$16,Rate!$B$21)),'Tax 2026'!$B$25*M14),0))) -> 21013.251 | P14: =IF(AND(N14>='Tax 2026'!$B$27,O14<'Tax 2026'!$B$26),MIN('Tax 2026'!$B$26,M14),O14) -> 21013.251 | Q14: =MAX(0,M14-P14) -> 84053.004 | R14: =SUMPRODUCT((Q14>INDEX('Tax 2026'!$C$4:$F$10,0,Rate!$B$21))*(Q14-INDEX('Tax 2026'!$C$4:$F$10,0,Rate!$B$21))*'Tax 2026'!$G$4:$G$10) -> 13203.661 | S14: =R14-SUMPRODUCT((MAX(0,Rate!$B$6-Rate!$B$22)>INDEX('Tax 2026'!$C$4:$F$10,0,Rate!$B$21))*(MAX(0,Rate!$B$6-Rate!$B$22)-INDEX('Tax 2026'!$C$4:$F$10,0,Rate!$B$21))*'Tax 2026'!$G$4:$G$10) -> 13203.661 | T14: =C14*Rate!$B$7 -> 7444.2309 | U14: =S14+H14+T14 -> 41684.618 | V14: =B14-Rate!$B$8-U14-Rate!$B$9-Rate!$B$10 -> 90000 | W14: =B14+(Rate!$B$4-V14)/(1-0.35) -> 157884.62
A15: 9 | B15: =W14 -> 157884.62 | C15: =MAX(0,B15-Rate!$B$8) -> 148884.62 | D15: =IF(C15*'Tax 2026'!$B$23>='Tax 2026'!$B$24,C15*'Tax 2026'!$B$23,0) -> 137494.95 | E15: =MIN(D15,'Tax 2026'!$B$19)*'Tax 2026'!$B$20 -> 17049.373 | F15: =D15*'Tax 2026'!$B$21 -> 3987.3534 | G15: =MAX(0,MIN(D15,D15-INDEX('Tax 2026'!$D$13:$D$16,Rate!$B$21)))*'Tax 2026'!$B$22 -> 0 | H15: =E15+F15+G15 -> 21036.727 | I15: =(E15+F15)/2 -> 10518.363 | J15: =MIN(Rate!$B$9,MAX(0,C15-I15)) -> 7200 | K15: =MIN(Rate!$B$10,MAX(0,C15-I15-J15)) -> 10000 | L15: =Rate!$B$6+C15-I15-J15-K15 -> 121166.26 | M15: =MAX(0,L15-Rate!$B$22) -> 105066.26 | N15: =MAX(0,C15-I15-J15-K15) -> 121166.26 | O15: =IF(N15<=0,0,IF(M15<=INDEX('Tax 2026'!$E$13:$E$16,Rate!$B$21),MIN('Tax 2026'!$B$25*N15,'Tax 2026'!$B$25*M15),IF(M15<INDEX('Tax 2026'!$E$13:$E$16,Rate!$B$21)+INDEX('Tax 2026'!$F$13:$F$16,Rate!$B$21),MIN('Tax 2026'!$B$25*N15*(1-(M15-INDEX('Tax 2026'!$E$13:$E$16,Rate!$B$21))/INDEX('Tax 2026'!$F$13:$F$16,Rate!$B$21)),'Tax 2026'!$B$25*M15),0))) -> 21013.251 | P15: =IF(AND(N15>='Tax 2026'!$B$27,O15<'Tax 2026'!$B$26),MIN('Tax 2026'!$B$26,M15),O15) -> 21013.251 | Q15: =MAX(0,M15-P15) -> 84053.004 | R15: =SUMPRODUCT((Q15>INDEX('Tax 2026'!$C$4:$F$10,0,Rate!$B$21))*(Q15-INDEX('Tax 2026'!$C$4:$F$10,0,Rate!$B$21))*'Tax 2026'!$G$4:$G$10) -> 13203.661 | S15: =R15-SUMPRODUCT((MAX(0,Rate!$B$6-Rate!$B$22)>INDEX('Tax 2026'!$C$4:$F$10,0,Rate!$B$21))*(MAX(0,Rate!$B$6-Rate!$B$22)-INDEX('Tax 2026'!$C$4:$F$10,0,Rate!$B$21))*'Tax 2026'!$G$4:$G$10) -> 13203.661 | T15: =C15*Rate!$B$7 -> 7444.2309 | U15: =S15+H15+T15 -> 41684.618 | V15: =B15-Rate!$B$8-U15-Rate!$B$9-Rate!$B$10 -> 90000 | W15: =B15+(Rate!$B$4-V15)/(1-0.35) -> 157884.62
A16: 10 | B16: =W15 -> 157884.62 | C16: =MAX(0,B16-Rate!$B$8) -> 148884.62 | D16: =IF(C16*'Tax 2026'!$B$23>='Tax 2026'!$B$24,C16*'Tax 2026'!$B$23,0) -> 137494.95 | E16: =MIN(D16,'Tax 2026'!$B$19)*'Tax 2026'!$B$20 -> 17049.373 | F16: =D16*'Tax 2026'!$B$21 -> 3987.3534 | G16: =MAX(0,MIN(D16,D16-INDEX('Tax 2026'!$D$13:$D$16,Rate!$B$21)))*'Tax 2026'!$B$22 -> 0 | H16: =E16+F16+G16 -> 21036.727 | I16: =(E16+F16)/2 -> 10518.363 | J16: =MIN(Rate!$B$9,MAX(0,C16-I16)) -> 7200 | K16: =MIN(Rate!$B$10,MAX(0,C16-I16-J16)) -> 10000 | L16: =Rate!$B$6+C16-I16-J16-K16 -> 121166.26 | M16: =MAX(0,L16-Rate!$B$22) -> 105066.26 | N16: =MAX(0,C16-I16-J16-K16) -> 121166.26 | O16: =IF(N16<=0,0,IF(M16<=INDEX('Tax 2026'!$E$13:$E$16,Rate!$B$21),MIN('Tax 2026'!$B$25*N16,'Tax 2026'!$B$25*M16),IF(M16<INDEX('Tax 2026'!$E$13:$E$16,Rate!$B$21)+INDEX('Tax 2026'!$F$13:$F$16,Rate!$B$21),MIN('Tax 2026'!$B$25*N16*(1-(M16-INDEX('Tax 2026'!$E$13:$E$16,Rate!$B$21))/INDEX('Tax 2026'!$F$13:$F$16,Rate!$B$21)),'Tax 2026'!$B$25*M16),0))) -> 21013.251 | P16: =IF(AND(N16>='Tax 2026'!$B$27,O16<'Tax 2026'!$B$26),MIN('Tax 2026'!$B$26,M16),O16) -> 21013.251 | Q16: =MAX(0,M16-P16) -> 84053.004 | R16: =SUMPRODUCT((Q16>INDEX('Tax 2026'!$C$4:$F$10,0,Rate!$B$21))*(Q16-INDEX('Tax 2026'!$C$4:$F$10,0,Rate!$B$21))*'Tax 2026'!$G$4:$G$10) -> 13203.661 | S16: =R16-SUMPRODUCT((MAX(0,Rate!$B$6-Rate!$B$22)>INDEX('Tax 2026'!$C$4:$F$10,0,Rate!$B$21))*(MAX(0,Rate!$B$6-Rate!$B$22)-INDEX('Tax 2026'!$C$4:$F$10,0,Rate!$B$21))*'Tax 2026'!$G$4:$G$10) -> 13203.661 | T16: =C16*Rate!$B$7 -> 7444.2309 | U16: =S16+H16+T16 -> 41684.618 | V16: =B16-Rate!$B$8-U16-Rate!$B$9-Rate!$B$10 -> 90000 | W16: =B16+(Rate!$B$4-V16)/(1-0.35) -> 157884.62
A17: 11 | B17: =W16 -> 157884.62 | C17: =MAX(0,B17-Rate!$B$8) -> 148884.62 | D17: =IF(C17*'Tax 2026'!$B$23>='Tax 2026'!$B$24,C17*'Tax 2026'!$B$23,0) -> 137494.95 | E17: =MIN(D17,'Tax 2026'!$B$19)*'Tax 2026'!$B$20 -> 17049.373 | F17: =D17*'Tax 2026'!$B$21 -> 3987.3534 | G17: =MAX(0,MIN(D17,D17-INDEX('Tax 2026'!$D$13:$D$16,Rate!$B$21)))*'Tax 2026'!$B$22 -> 0 | H17: =E17+F17+G17 -> 21036.727 | I17: =(E17+F17)/2 -> 10518.363 | J17: =MIN(Rate!$B$9,MAX(0,C17-I17)) -> 7200 | K17: =MIN(Rate!$B$10,MAX(0,C17-I17-J17)) -> 10000 | L17: =Rate!$B$6+C17-I17-J17-K17 -> 121166.26 | M17: =MAX(0,L17-Rate!$B$22) -> 105066.26 | N17: =MAX(0,C17-I17-J17-K17) -> 121166.26 | O17: =IF(N17<=0,0,IF(M17<=INDEX('Tax 2026'!$E$13:$E$16,Rate!$B$21),MIN('Tax 2026'!$B$25*N17,'Tax 2026'!$B$25*M17),IF(M17<INDEX('Tax 2026'!$E$13:$E$16,Rate!$B$21)+INDEX('Tax 2026'!$F$13:$F$16,Rate!$B$21),MIN('Tax 2026'!$B$25*N17*(1-(M17-INDEX('Tax 2026'!$E$13:$E$16,Rate!$B$21))/INDEX('Tax 2026'!$F$13:$F$16,Rate!$B$21)),'Tax 2026'!$B$25*M17),0))) -> 21013.251 | P17: =IF(AND(N17>='Tax 2026'!$B$27,O17<'Tax 2026'!$B$26),MIN('Tax 2026'!$B$26,M17),O17) -> 21013.251 | Q17: =MAX(0,M17-P17) -> 84053.004 | R17: =SUMPRODUCT((Q17>INDEX('Tax 2026'!$C$4:$F$10,0,Rate!$B$21))*(Q17-INDEX('Tax 2026'!$C$4:$F$10,0,Rate!$B$21))*'Tax 2026'!$G$4:$G$10) -> 13203.661 | S17: =R17-SUMPRODUCT((MAX(0,Rate!$B$6-Rate!$B$22)>INDEX('Tax 2026'!$C$4:$F$10,0,Rate!$B$21))*(MAX(0,Rate!$B$6-Rate!$B$22)-INDEX('Tax 2026'!$C$4:$F$10,0,Rate!$B$21))*'Tax 2026'!$G$4:$G$10) -> 13203.661 | T17: =C17*Rate!$B$7 -> 7444.2309 | U17: =S17+H17+T17 -> 41684.618 | V17: =B17-Rate!$B$8-U17-Rate!$B$9-Rate!$B$10 -> 90000 | W17: =B17+(Rate!$B$4-V17)/(1-0.35) -> 157884.62
A18: 12 | B18: =W17 -> 157884.62 | C18: =MAX(0,B18-Rate!$B$8) -> 148884.62 | D18: =IF(C18*'Tax 2026'!$B$23>='Tax 2026'!$B$24,C18*'Tax 2026'!$B$23,0) -> 137494.95 | E18: =MIN(D18,'Tax 2026'!$B$19)*'Tax 2026'!$B$20 -> 17049.373 | F18: =D18*'Tax 2026'!$B$21 -> 3987.3534 | G18: =MAX(0,MIN(D18,D18-INDEX('Tax 2026'!$D$13:$D$16,Rate!$B$21)))*'Tax 2026'!$B$22 -> 0 | H18: =E18+F18+G18 -> 21036.727 | I18: =(E18+F18)/2 -> 10518.363 | J18: =MIN(Rate!$B$9,MAX(0,C18-I18)) -> 7200 | K18: =MIN(Rate!$B$10,MAX(0,C18-I18-J18)) -> 10000 | L18: =Rate!$B$6+C18-I18-J18-K18 -> 121166.26 | M18: =MAX(0,L18-Rate!$B$22) -> 105066.26 | N18: =MAX(0,C18-I18-J18-K18) -> 121166.26 | O18: =IF(N18<=0,0,IF(M18<=INDEX('Tax 2026'!$E$13:$E$16,Rate!$B$21),MIN('Tax 2026'!$B$25*N18,'Tax 2026'!$B$25*M18),IF(M18<INDEX('Tax 2026'!$E$13:$E$16,Rate!$B$21)+INDEX('Tax 2026'!$F$13:$F$16,Rate!$B$21),MIN('Tax 2026'!$B$25*N18*(1-(M18-INDEX('Tax 2026'!$E$13:$E$16,Rate!$B$21))/INDEX('Tax 2026'!$F$13:$F$16,Rate!$B$21)),'Tax 2026'!$B$25*M18),0))) -> 21013.251 | P18: =IF(AND(N18>='Tax 2026'!$B$27,O18<'Tax 2026'!$B$26),MIN('Tax 2026'!$B$26,M18),O18) -> 21013.251 | Q18: =MAX(0,M18-P18) -> 84053.004 | R18: =SUMPRODUCT((Q18>INDEX('Tax 2026'!$C$4:$F$10,0,Rate!$B$21))*(Q18-INDEX('Tax 2026'!$C$4:$F$10,0,Rate!$B$21))*'Tax 2026'!$G$4:$G$10) -> 13203.661 | S18: =R18-SUMPRODUCT((MAX(0,Rate!$B$6-Rate!$B$22)>INDEX('Tax 2026'!$C$4:$F$10,0,Rate!$B$21))*(MAX(0,Rate!$B$6-Rate!$B$22)-INDEX('Tax 2026'!$C$4:$F$10,0,Rate!$B$21))*'Tax 2026'!$G$4:$G$10) -> 13203.661 | T18: =C18*Rate!$B$7 -> 7444.2309 | U18: =S18+H18+T18 -> 41684.618 | V18: =B18-Rate!$B$8-U18-Rate!$B$9-Rate!$B$10 -> 90000 | W18: =B18+(Rate!$B$4-V18)/(1-0.35) -> 157884.62
... A20: 14 | B20: =W19 -> 157884.62 | C20: =MAX(0,B20-Rate!$B$8) -> 148884.62 | D20: =IF(C20*'Tax 2026'!$B$23>='Tax 2026'!$B$24,C20*'Tax 2026'!$B$23,0) -> 137494.95 | E20: =MIN(D20,'Tax 2026'!$B$19)*'Tax 2026'!$B$20 -> 17049.373 | F20: =D20*'Tax 2026'!$B$21 -> 3987.3534 | G20: =MAX(0,MIN(D20,D20-INDEX('Tax 2026'!$D$13:$D$16,Rate!$B$21)))*'Tax 2026'!$B$22 -> 0 | H20: =E20+F20+G20 -> 21036.727 | I20: =(E20+F20)/2 -> 10518.363 | J20: =MIN(Rate!$B$9,MAX(0,C20-I20)) -> 7200 | K20: =MIN(Rate!$B$10,MAX(0,C20-I20-J20)) -> 10000 | L20: =Rate!$B$6+C20-I20-J20-K20 -> 121166.26 | M20: =MAX(0,L20-Rate!$B$22) -> 105066.26 | N20: =MAX(0,C20-I20-J20-K20) -> 121166.26 | O20: =IF(N20<=0,0,IF(M20<=INDEX('Tax 2026'!$E$13:$E$16,Rate!$B$21),MIN('Tax 2026'!$B$25*N20,'Tax 2026'!$B$25*M20),IF(M20<INDEX('Tax 2026'!$E$13:$E$16,Rate!$B$21)+INDEX('Tax 2026'!$F$13:$F$16,Rate!$B$21),MIN('Tax 2026'!$B$25*N20*(1-(M20-INDEX('Tax 2026'!$E$13:$E$16,Rate!$B$21))/INDEX('Tax 2026'!$F$13:$F$16,Rate!$B$21)),'Tax 2026'!$B$25*M20),0))) -> 21013.251 | P20: =IF(AND(N20>='Tax 2026'!$B$27,O20<'Tax 2026'!$B$26),MIN('Tax 2026'!$B$26,M20),O20) -> 21013.251 | Q20: =MAX(0,M20-P20) -> 84053.004 | R20: =SUMPRODUCT((Q20>INDEX('Tax 2026'!$C$4:$F$10,0,Rate!$B$21))*(Q20-INDEX('Tax 2026'!$C$4:$F$10,0,Rate!$B$21))*'Tax 2026'!$G$4:$G$10) -> 13203.661 | S20: =R20-SUMPRODUCT((MAX(0,Rate!$B$6-Rate!$B$22)>INDEX('Tax 2026'!$C$4:$F$10,0,Rate!$B$21))*(MAX(0,Rate!$B$6-Rate!$B$22)-INDEX('Tax 2026'!$C$4:$F$10,0,Rate!$B$21))*'Tax 2026'!$G$4:$G$10) -> 13203.661 | T20: =C20*Rate!$B$7 -> 7444.2309 | U20: =S20+H20+T20 -> 41684.618 | V20: =B20-Rate!$B$8-U20-Rate!$B$9-Rate!$B$10 -> 90000 | W20: =B20+(Rate!$B$4-V20)/(1-0.35) -> 157884.62
A24: B. Revenue that leaves the same take-home as the job
A25: n | B25: Collected revenue (trial) | C25: Net profit | D25: SE base | E25: Social Security | F25: Medicare | G25: Additional Medicare | H25: SE tax | I25: Half of SE tax | J25: Health deduction | K25: Retirement deduction | L25: AGI | M25: Taxable before QBI | N25: QBI base | O25: QBI before minimum | P25: QBI deduction | Q25: Taxable income | R25: Income tax | S25: Income tax on business income | T25: State tax | U25: Total tax | V25: Take-home | W25: Next trial
A26: 0 | B26: =(Rate!B53+Rate!B8+Rate!B9+Rate!B10)/0.7 -> 129396.43 | C26: =MAX(0,B26-Rate!$B$8) -> 120396.43 | D26: =IF(C26*'Tax 2026'!$B$23>='Tax 2026'!$B$24,C26*'Tax 2026'!$B$23,0) -> 111186.1 | E26: =MIN(D26,'Tax 2026'!$B$19)*'Tax 2026'!$B$20 -> 13787.077 | F26: =D26*'Tax 2026'!$B$21 -> 3224.397 | G26: =MAX(0,MIN(D26,D26-INDEX('Tax 2026'!$D$13:$D$16,Rate!$B$21)))*'Tax 2026'!$B$22 -> 0 | H26: =E26+F26+G26 -> 17011.474 | I26: =(E26+F26)/2 -> 8505.7368 | J26: =MIN(Rate!$B$9,MAX(0,C26-I26)) -> 7200 | K26: =MIN(Rate!$B$10,MAX(0,C26-I26-J26)) -> 10000 | L26: =Rate!$B$6+C26-I26-J26-K26 -> 94690.692 | M26: =MAX(0,L26-Rate!$B$22) -> 78590.692 | N26: =MAX(0,C26-I26-J26-K26) -> 94690.692 | O26: =IF(N26<=0,0,IF(M26<=INDEX('Tax 2026'!$E$13:$E$16,Rate!$B$21),MIN('Tax 2026'!$B$25*N26,'Tax 2026'!$B$25*M26),IF(M26<INDEX('Tax 2026'!$E$13:$E$16,Rate!$B$21)+INDEX('Tax 2026'!$F$13:$F$16,Rate!$B$21),MIN('Tax 2026'!$B$25*N26*(1-(M26-INDEX('Tax 2026'!$E$13:$E$16,Rate!$B$21))/INDEX('Tax 2026'!$F$13:$F$16,Rate!$B$21)),'Tax 2026'!$B$25*M26),0))) -> 15718.138 | P26: =IF(AND(N26>='Tax 2026'!$B$27,O26<'Tax 2026'!$B$26),MIN('Tax 2026'!$B$26,M26),O26) -> 15718.138 | Q26: =MAX(0,M26-P26) -> 62872.553 | R26: =SUMPRODUCT((Q26>INDEX('Tax 2026'!$C$4:$F$10,0,Rate!$B$21))*(Q26-INDEX('Tax 2026'!$C$4:$F$10,0,Rate!$B$21))*'Tax 2026'!$G$4:$G$10) -> 8543.9618 | S26: =R26-SUMPRODUCT((MAX(0,Rate!$B$6-Rate!$B$22)>INDEX('Tax 2026'!$C$4:$F$10,0,Rate!$B$21))*(MAX(0,Rate!$B$6-Rate!$B$22)-INDEX('Tax 2026'!$C$4:$F$10,0,Rate!$B$21))*'Tax 2026'!$G$4:$G$10) -> 8543.9618 | T26: =C26*Rate!$B$7 -> 6019.8214 | U26: =S26+H26+T26 -> 31575.257 | V26: =B26-Rate!$B$8-U26-Rate!$B$9-Rate!$B$10 -> 71621.172 | W26: =B26+(Rate!$B$53-V26)/(1-0.35) -> 118252.32
A27: 1 | B27: =W26 -> 118252.32 | C27: =MAX(0,B27-Rate!$B$8) -> 109252.32 | D27: =IF(C27*'Tax 2026'!$B$23>='Tax 2026'!$B$24,C27*'Tax 2026'!$B$23,0) -> 100894.52 | E27: =MIN(D27,'Tax 2026'!$B$19)*'Tax 2026'!$B$20 -> 12510.92 | F27: =D27*'Tax 2026'!$B$21 -> 2925.941 | G27: =MAX(0,MIN(D27,D27-INDEX('Tax 2026'!$D$13:$D$16,Rate!$B$21)))*'Tax 2026'!$B$22 -> 0 | H27: =E27+F27+G27 -> 15436.861 | I27: =(E27+F27)/2 -> 7718.4305 | J27: =MIN(Rate!$B$9,MAX(0,C27-I27)) -> 7200 | K27: =MIN(Rate!$B$10,MAX(0,C27-I27-J27)) -> 10000 | L27: =Rate!$B$6+C27-I27-J27-K27 -> 84333.888 | M27: =MAX(0,L27-Rate!$B$22) -> 68233.888 | N27: =MAX(0,C27-I27-J27-K27) -> 84333.888 | O27: =IF(N27<=0,0,IF(M27<=INDEX('Tax 2026'!$E$13:$E$16,Rate!$B$21),MIN('Tax 2026'!$B$25*N27,'Tax 2026'!$B$25*M27),IF(M27<INDEX('Tax 2026'!$E$13:$E$16,Rate!$B$21)+INDEX('Tax 2026'!$F$13:$F$16,Rate!$B$21),MIN('Tax 2026'!$B$25*N27*(1-(M27-INDEX('Tax 2026'!$E$13:$E$16,Rate!$B$21))/INDEX('Tax 2026'!$F$13:$F$16,Rate!$B$21)),'Tax 2026'!$B$25*M27),0))) -> 13646.778 | P27: =IF(AND(N27>='Tax 2026'!$B$27,O27<'Tax 2026'!$B$26),MIN('Tax 2026'!$B$26,M27),O27) -> 13646.778 | Q27: =MAX(0,M27-P27) -> 54587.11 | R27: =SUMPRODUCT((Q27>INDEX('Tax 2026'!$C$4:$F$10,0,Rate!$B$21))*(Q27-INDEX('Tax 2026'!$C$4:$F$10,0,Rate!$B$21))*'Tax 2026'!$G$4:$G$10) -> 6721.1642 | S27: =R27-SUMPRODUCT((MAX(0,Rate!$B$6-Rate!$B$22)>INDEX('Tax 2026'!$C$4:$F$10,0,Rate!$B$21))*(MAX(0,Rate!$B$6-Rate!$B$22)-INDEX('Tax 2026'!$C$4:$F$10,0,Rate!$B$21))*'Tax 2026'!$G$4:$G$10) -> 6721.1642 | T27: =C27*Rate!$B$7 -> 5462.6159 | U27: =S27+H27+T27 -> 27620.641 | V27: =B27-Rate!$B$8-U27-Rate!$B$9-Rate!$B$10 -> 64431.677 | W27: =B27+(Rate!$B$53-V27)/(1-0.35) -> 118168.97
A28: 2 | B28: =W27 -> 118168.97 | C28: =MAX(0,B28-Rate!$B$8) -> 109168.97 | D28: =IF(C28*'Tax 2026'!$B$23>='Tax 2026'!$B$24,C28*'Tax 2026'!$B$23,0) -> 100817.54 | E28: =MIN(D28,'Tax 2026'!$B$19)*'Tax 2026'!$B$20 -> 12501.375 | F28: =D28*'Tax 2026'!$B$21 -> 2923.7087 | G28: =MAX(0,MIN(D28,D28-INDEX('Tax 2026'!$D$13:$D$16,Rate!$B$21)))*'Tax 2026'!$B$22 -> 0 | H28: =E28+F28+G28 -> 15425.084 | I28: =(E28+F28)/2 -> 7712.542 | J28: =MIN(Rate!$B$9,MAX(0,C28-I28)) -> 7200 | K28: =MIN(Rate!$B$10,MAX(0,C28-I28-J28)) -> 10000 | L28: =Rate!$B$6+C28-I28-J28-K28 -> 84256.427 | M28: =MAX(0,L28-Rate!$B$22) -> 68156.427 | N28: =MAX(0,C28-I28-J28-K28) -> 84256.427 | O28: =IF(N28<=0,0,IF(M28<=INDEX('Tax 2026'!$E$13:$E$16,Rate!$B$21),MIN('Tax 2026'!$B$25*N28,'Tax 2026'!$B$25*M28),IF(M28<INDEX('Tax 2026'!$E$13:$E$16,Rate!$B$21)+INDEX('Tax 2026'!$F$13:$F$16,Rate!$B$21),MIN('Tax 2026'!$B$25*N28*(1-(M28-INDEX('Tax 2026'!$E$13:$E$16,Rate!$B$21))/INDEX('Tax 2026'!$F$13:$F$16,Rate!$B$21)),'Tax 2026'!$B$25*M28),0))) -> 13631.285 | P28: =IF(AND(N28>='Tax 2026'!$B$27,O28<'Tax 2026'!$B$26),MIN('Tax 2026'!$B$26,M28),O28) -> 13631.285 | Q28: =MAX(0,M28-P28) -> 54525.141 | R28: =SUMPRODUCT((Q28>INDEX('Tax 2026'!$C$4:$F$10,0,Rate!$B$21))*(Q28-INDEX('Tax 2026'!$C$4:$F$10,0,Rate!$B$21))*'Tax 2026'!$G$4:$G$10) -> 6707.5311 | S28: =R28-SUMPRODUCT((MAX(0,Rate!$B$6-Rate!$B$22)>INDEX('Tax 2026'!$C$4:$F$10,0,Rate!$B$21))*(MAX(0,Rate!$B$6-Rate!$B$22)-INDEX('Tax 2026'!$C$4:$F$10,0,Rate!$B$21))*'Tax 2026'!$G$4:$G$10) -> 6707.5311 | T28: =C28*Rate!$B$7 -> 5458.4484 | U28: =S28+H28+T28 -> 27591.064 | V28: =B28-Rate!$B$8-U28-Rate!$B$9-Rate!$B$10 -> 64377.905 | W28: =B28+(Rate!$B$53-V28)/(1-0.35) -> 118168.35
A29: 3 | B29: =W28 -> 118168.35 | C29: =MAX(0,B29-Rate!$B$8) -> 109168.35 | D29: =IF(C29*'Tax 2026'!$B$23>='Tax 2026'!$B$24,C29*'Tax 2026'!$B$23,0) -> 100816.97 | E29: =MIN(D29,'Tax 2026'!$B$19)*'Tax 2026'!$B$20 -> 12501.304 | F29: =D29*'Tax 2026'!$B$21 -> 2923.692 | G29: =MAX(0,MIN(D29,D29-INDEX('Tax 2026'!$D$13:$D$16,Rate!$B$21)))*'Tax 2026'!$B$22 -> 0 | H29: =E29+F29+G29 -> 15424.996 | I29: =(E29+F29)/2 -> 7712.498 | J29: =MIN(Rate!$B$9,MAX(0,C29-I29)) -> 7200 | K29: =MIN(Rate!$B$10,MAX(0,C29-I29-J29)) -> 10000 | L29: =Rate!$B$6+C29-I29-J29-K29 -> 84255.847 | M29: =MAX(0,L29-Rate!$B$22) -> 68155.847 | N29: =MAX(0,C29-I29-J29-K29) -> 84255.847 | O29: =IF(N29<=0,0,IF(M29<=INDEX('Tax 2026'!$E$13:$E$16,Rate!$B$21),MIN('Tax 2026'!$B$25*N29,'Tax 2026'!$B$25*M29),IF(M29<INDEX('Tax 2026'!$E$13:$E$16,Rate!$B$21)+INDEX('Tax 2026'!$F$13:$F$16,Rate!$B$21),MIN('Tax 2026'!$B$25*N29*(1-(M29-INDEX('Tax 2026'!$E$13:$E$16,Rate!$B$21))/INDEX('Tax 2026'!$F$13:$F$16,Rate!$B$21)),'Tax 2026'!$B$25*M29),0))) -> 13631.169 | P29: =IF(AND(N29>='Tax 2026'!$B$27,O29<'Tax 2026'!$B$26),MIN('Tax 2026'!$B$26,M29),O29) -> 13631.169 | Q29: =MAX(0,M29-P29) -> 54524.678 | R29: =SUMPRODUCT((Q29>INDEX('Tax 2026'!$C$4:$F$10,0,Rate!$B$21))*(Q29-INDEX('Tax 2026'!$C$4:$F$10,0,Rate!$B$21))*'Tax 2026'!$G$4:$G$10) -> 6707.4291 | S29: =R29-SUMPRODUCT((MAX(0,Rate!$B$6-Rate!$B$22)>INDEX('Tax 2026'!$C$4:$F$10,0,Rate!$B$21))*(MAX(0,Rate!$B$6-Rate!$B$22)-INDEX('Tax 2026'!$C$4:$F$10,0,Rate!$B$21))*'Tax 2026'!$G$4:$G$10) -> 6707.4291 | T29: =C29*Rate!$B$7 -> 5458.4173 | U29: =S29+H29+T29 -> 27590.842 | V29: =B29-Rate!$B$8-U29-Rate!$B$9-Rate!$B$10 -> 64377.503 | W29: =B29+(Rate!$B$53-V29)/(1-0.35) -> 118168.34
A30: 4 | B30: =W29 -> 118168.34 | C30: =MAX(0,B30-Rate!$B$8) -> 109168.34 | D30: =IF(C30*'Tax 2026'!$B$23>='Tax 2026'!$B$24,C30*'Tax 2026'!$B$23,0) -> 100816.96 | E30: =MIN(D30,'Tax 2026'!$B$19)*'Tax 2026'!$B$20 -> 12501.303 | F30: =D30*'Tax 2026'!$B$21 -> 2923.6919 | G30: =MAX(0,MIN(D30,D30-INDEX('Tax 2026'!$D$13:$D$16,Rate!$B$21)))*'Tax 2026'!$B$22 -> 0 | H30: =E30+F30+G30 -> 15424.995 | I30: =(E30+F30)/2 -> 7712.4976 | J30: =MIN(Rate!$B$9,MAX(0,C30-I30)) -> 7200 | K30: =MIN(Rate!$B$10,MAX(0,C30-I30-J30)) -> 10000 | L30: =Rate!$B$6+C30-I30-J30-K30 -> 84255.843 | M30: =MAX(0,L30-Rate!$B$22) -> 68155.843 | N30: =MAX(0,C30-I30-J30-K30) -> 84255.843 | O30: =IF(N30<=0,0,IF(M30<=INDEX('Tax 2026'!$E$13:$E$16,Rate!$B$21),MIN('Tax 2026'!$B$25*N30,'Tax 2026'!$B$25*M30),IF(M30<INDEX('Tax 2026'!$E$13:$E$16,Rate!$B$21)+INDEX('Tax 2026'!$F$13:$F$16,Rate!$B$21),MIN('Tax 2026'!$B$25*N30*(1-(M30-INDEX('Tax 2026'!$E$13:$E$16,Rate!$B$21))/INDEX('Tax 2026'!$F$13:$F$16,Rate!$B$21)),'Tax 2026'!$B$25*M30),0))) -> 13631.169 | P30: =IF(AND(N30>='Tax 2026'!$B$27,O30<'Tax 2026'!$B$26),MIN('Tax 2026'!$B$26,M30),O30) -> 13631.169 | Q30: =MAX(0,M30-P30) -> 54524.674 | R30: =SUMPRODUCT((Q30>INDEX('Tax 2026'!$C$4:$F$10,0,Rate!$B$21))*(Q30-INDEX('Tax 2026'!$C$4:$F$10,0,Rate!$B$21))*'Tax 2026'!$G$4:$G$10) -> 6707.4284 | S30: =R30-SUMPRODUCT((MAX(0,Rate!$B$6-Rate!$B$22)>INDEX('Tax 2026'!$C$4:$F$10,0,Rate!$B$21))*(MAX(0,Rate!$B$6-Rate!$B$22)-INDEX('Tax 2026'!$C$4:$F$10,0,Rate!$B$21))*'Tax 2026'!$G$4:$G$10) -> 6707.4284 | T30: =C30*Rate!$B$7 -> 5458.417 | U30: =S30+H30+T30 -> 27590.841 | V30: =B30-Rate!$B$8-U30-Rate!$B$9-Rate!$B$10 -> 64377.5 | W30: =B30+(Rate!$B$53-V30)/(1-0.35) -> 118168.34
A31: 5 | B31: =W30 -> 118168.34 | C31: =MAX(0,B31-Rate!$B$8) -> 109168.34 | D31: =IF(C31*'Tax 2026'!$B$23>='Tax 2026'!$B$24,C31*'Tax 2026'!$B$23,0) -> 100816.96 | E31: =MIN(D31,'Tax 2026'!$B$19)*'Tax 2026'!$B$20 -> 12501.303 | F31: =D31*'Tax 2026'!$B$21 -> 2923.6919 | G31: =MAX(0,MIN(D31,D31-INDEX('Tax 2026'!$D$13:$D$16,Rate!$B$21)))*'Tax 2026'!$B$22 -> 0 | H31: =E31+F31+G31 -> 15424.995 | I31: =(E31+F31)/2 -> 7712.4976 | J31: =MIN(Rate!$B$9,MAX(0,C31-I31)) -> 7200 | K31: =MIN(Rate!$B$10,MAX(0,C31-I31-J31)) -> 10000 | L31: =Rate!$B$6+C31-I31-J31-K31 -> 84255.843 | M31: =MAX(0,L31-Rate!$B$22) -> 68155.843 | N31: =MAX(0,C31-I31-J31-K31) -> 84255.843 | O31: =IF(N31<=0,0,IF(M31<=INDEX('Tax 2026'!$E$13:$E$16,Rate!$B$21),MIN('Tax 2026'!$B$25*N31,'Tax 2026'!$B$25*M31),IF(M31<INDEX('Tax 2026'!$E$13:$E$16,Rate!$B$21)+INDEX('Tax 2026'!$F$13:$F$16,Rate!$B$21),MIN('Tax 2026'!$B$25*N31*(1-(M31-INDEX('Tax 2026'!$E$13:$E$16,Rate!$B$21))/INDEX('Tax 2026'!$F$13:$F$16,Rate!$B$21)),'Tax 2026'!$B$25*M31),0))) -> 13631.169 | P31: =IF(AND(N31>='Tax 2026'!$B$27,O31<'Tax 2026'!$B$26),MIN('Tax 2026'!$B$26,M31),O31) -> 13631.169 | Q31: =MAX(0,M31-P31) -> 54524.674 | R31: =SUMPRODUCT((Q31>INDEX('Tax 2026'!$C$4:$F$10,0,Rate!$B$21))*(Q31-INDEX('Tax 2026'!$C$4:$F$10,0,Rate!$B$21))*'Tax 2026'!$G$4:$G$10) -> 6707.4284 | S31: =R31-SUMPRODUCT((MAX(0,Rate!$B$6-Rate!$B$22)>INDEX('Tax 2026'!$C$4:$F$10,0,Rate!$B$21))*(MAX(0,Rate!$B$6-Rate!$B$22)-INDEX('Tax 2026'!$C$4:$F$10,0,Rate!$B$21))*'Tax 2026'!$G$4:$G$10) -> 6707.4284 | T31: =C31*Rate!$B$7 -> 5458.417 | U31: =S31+H31+T31 -> 27590.841 | V31: =B31-Rate!$B$8-U31-Rate!$B$9-Rate!$B$10 -> 64377.5 | W31: =B31+(Rate!$B$53-V31)/(1-0.35) -> 118168.34
A32: 6 | B32: =W31 -> 118168.34 | C32: =MAX(0,B32-Rate!$B$8) -> 109168.34 | D32: =IF(C32*'Tax 2026'!$B$23>='Tax 2026'!$B$24,C32*'Tax 2026'!$B$23,0) -> 100816.96 | E32: =MIN(D32,'Tax 2026'!$B$19)*'Tax 2026'!$B$20 -> 12501.303 | F32: =D32*'Tax 2026'!$B$21 -> 2923.6919 | G32: =MAX(0,MIN(D32,D32-INDEX('Tax 2026'!$D$13:$D$16,Rate!$B$21)))*'Tax 2026'!$B$22 -> 0 | H32: =E32+F32+G32 -> 15424.995 | I32: =(E32+F32)/2 -> 7712.4976 | J32: =MIN(Rate!$B$9,MAX(0,C32-I32)) -> 7200 | K32: =MIN(Rate!$B$10,MAX(0,C32-I32-J32)) -> 10000 | L32: =Rate!$B$6+C32-I32-J32-K32 -> 84255.843 | M32: =MAX(0,L32-Rate!$B$22) -> 68155.843 | N32: =MAX(0,C32-I32-J32-K32) -> 84255.843 | O32: =IF(N32<=0,0,IF(M32<=INDEX('Tax 2026'!$E$13:$E$16,Rate!$B$21),MIN('Tax 2026'!$B$25*N32,'Tax 2026'!$B$25*M32),IF(M32<INDEX('Tax 2026'!$E$13:$E$16,Rate!$B$21)+INDEX('Tax 2026'!$F$13:$F$16,Rate!$B$21),MIN('Tax 2026'!$B$25*N32*(1-(M32-INDEX('Tax 2026'!$E$13:$E$16,Rate!$B$21))/INDEX('Tax 2026'!$F$13:$F$16,Rate!$B$21)),'Tax 2026'!$B$25*M32),0))) -> 13631.169 | P32: =IF(AND(N32>='Tax 2026'!$B$27,O32<'Tax 2026'!$B$26),MIN('Tax 2026'!$B$26,M32),O32) -> 13631.169 | Q32: =MAX(0,M32-P32) -> 54524.674 | R32: =SUMPRODUCT((Q32>INDEX('Tax 2026'!$C$4:$F$10,0,Rate!$B$21))*(Q32-INDEX('Tax 2026'!$C$4:$F$10,0,Rate!$B$21))*'Tax 2026'!$G$4:$G$10) -> 6707.4284 | S32: =R32-SUMPRODUCT((MAX(0,Rate!$B$6-Rate!$B$22)>INDEX('Tax 2026'!$C$4:$F$10,0,Rate!$B$21))*(MAX(0,Rate!$B$6-Rate!$B$22)-INDEX('Tax 2026'!$C$4:$F$10,0,Rate!$B$21))*'Tax 2026'!$G$4:$G$10) -> 6707.4284 | T32: =C32*Rate!$B$7 -> 5458.417 | U32: =S32+H32+T32 -> 27590.841 | V32: =B32-Rate!$B$8-U32-Rate!$B$9-Rate!$B$10 -> 64377.5 | W32: =B32+(Rate!$B$53-V32)/(1-0.35) -> 118168.34
A33: 7 | B33: =W32 -> 118168.34 | C33: =MAX(0,B33-Rate!$B$8) -> 109168.34 | D33: =IF(C33*'Tax 2026'!$B$23>='Tax 2026'!$B$24,C33*'Tax 2026'!$B$23,0) -> 100816.96 | E33: =MIN(D33,'Tax 2026'!$B$19)*'Tax 2026'!$B$20 -> 12501.303 | F33: =D33*'Tax 2026'!$B$21 -> 2923.6919 | G33: =MAX(0,MIN(D33,D33-INDEX('Tax 2026'!$D$13:$D$16,Rate!$B$21)))*'Tax 2026'!$B$22 -> 0 | H33: =E33+F33+G33 -> 15424.995 | I33: =(E33+F33)/2 -> 7712.4976 | J33: =MIN(Rate!$B$9,MAX(0,C33-I33)) -> 7200 | K33: =MIN(Rate!$B$10,MAX(0,C33-I33-J33)) -> 10000 | L33: =Rate!$B$6+C33-I33-J33-K33 -> 84255.843 | M33: =MAX(0,L33-Rate!$B$22) -> 68155.843 | N33: =MAX(0,C33-I33-J33-K33) -> 84255.843 | O33: =IF(N33<=0,0,IF(M33<=INDEX('Tax 2026'!$E$13:$E$16,Rate!$B$21),MIN('Tax 2026'!$B$25*N33,'Tax 2026'!$B$25*M33),IF(M33<INDEX('Tax 2026'!$E$13:$E$16,Rate!$B$21)+INDEX('Tax 2026'!$F$13:$F$16,Rate!$B$21),MIN('Tax 2026'!$B$25*N33*(1-(M33-INDEX('Tax 2026'!$E$13:$E$16,Rate!$B$21))/INDEX('Tax 2026'!$F$13:$F$16,Rate!$B$21)),'Tax 2026'!$B$25*M33),0))) -> 13631.169 | P33: =IF(AND(N33>='Tax 2026'!$B$27,O33<'Tax 2026'!$B$26),MIN('Tax 2026'!$B$26,M33),O33) -> 13631.169 | Q33: =MAX(0,M33-P33) -> 54524.674 | R33: =SUMPRODUCT((Q33>INDEX('Tax 2026'!$C$4:$F$10,0,Rate!$B$21))*(Q33-INDEX('Tax 2026'!$C$4:$F$10,0,Rate!$B$21))*'Tax 2026'!$G$4:$G$10) -> 6707.4284 | S33: =R33-SUMPRODUCT((MAX(0,Rate!$B$6-Rate!$B$22)>INDEX('Tax 2026'!$C$4:$F$10,0,Rate!$B$21))*(MAX(0,Rate!$B$6-Rate!$B$22)-INDEX('Tax 2026'!$C$4:$F$10,0,Rate!$B$21))*'Tax 2026'!$G$4:$G$10) -> 6707.4284 | T33: =C33*Rate!$B$7 -> 5458.417 | U33: =S33+H33+T33 -> 27590.841 | V33: =B33-Rate!$B$8-U33-Rate!$B$9-Rate!$B$10 -> 64377.5 | W33: =B33+(Rate!$B$53-V33)/(1-0.35) -> 118168.34
A34: 8 | B34: =W33 -> 118168.34 | C34: =MAX(0,B34-Rate!$B$8) -> 109168.34 | D34: =IF(C34*'Tax 2026'!$B$23>='Tax 2026'!$B$24,C34*'Tax 2026'!$B$23,0) -> 100816.96 | E34: =MIN(D34,'Tax 2026'!$B$19)*'Tax 2026'!$B$20 -> 12501.303 | F34: =D34*'Tax 2026'!$B$21 -> 2923.6919 | G34: =MAX(0,MIN(D34,D34-INDEX('Tax 2026'!$D$13:$D$16,Rate!$B$21)))*'Tax 2026'!$B$22 -> 0 | H34: =E34+F34+G34 -> 15424.995 | I34: =(E34+F34)/2 -> 7712.4976 | J34: =MIN(Rate!$B$9,MAX(0,C34-I34)) -> 7200 | K34: =MIN(Rate!$B$10,MAX(0,C34-I34-J34)) -> 10000 | L34: =Rate!$B$6+C34-I34-J34-K34 -> 84255.843 | M34: =MAX(0,L34-Rate!$B$22) -> 68155.843 | N34: =MAX(0,C34-I34-J34-K34) -> 84255.843 | O34: =IF(N34<=0,0,IF(M34<=INDEX('Tax 2026'!$E$13:$E$16,Rate!$B$21),MIN('Tax 2026'!$B$25*N34,'Tax 2026'!$B$25*M34),IF(M34<INDEX('Tax 2026'!$E$13:$E$16,Rate!$B$21)+INDEX('Tax 2026'!$F$13:$F$16,Rate!$B$21),MIN('Tax 2026'!$B$25*N34*(1-(M34-INDEX('Tax 2026'!$E$13:$E$16,Rate!$B$21))/INDEX('Tax 2026'!$F$13:$F$16,Rate!$B$21)),'Tax 2026'!$B$25*M34),0))) -> 13631.169 | P34: =IF(AND(N34>='Tax 2026'!$B$27,O34<'Tax 2026'!$B$26),MIN('Tax 2026'!$B$26,M34),O34) -> 13631.169 | Q34: =MAX(0,M34-P34) -> 54524.674 | R34: =SUMPRODUCT((Q34>INDEX('Tax 2026'!$C$4:$F$10,0,Rate!$B$21))*(Q34-INDEX('Tax 2026'!$C$4:$F$10,0,Rate!$B$21))*'Tax 2026'!$G$4:$G$10) -> 6707.4284 | S34: =R34-SUMPRODUCT((MAX(0,Rate!$B$6-Rate!$B$22)>INDEX('Tax 2026'!$C$4:$F$10,0,Rate!$B$21))*(MAX(0,Rate!$B$6-Rate!$B$22)-INDEX('Tax 2026'!$C$4:$F$10,0,Rate!$B$21))*'Tax 2026'!$G$4:$G$10) -> 6707.4284 | T34: =C34*Rate!$B$7 -> 5458.417 | U34: =S34+H34+T34 -> 27590.841 | V34: =B34-Rate!$B$8-U34-Rate!$B$9-Rate!$B$10 -> 64377.5 | W34: =B34+(Rate!$B$53-V34)/(1-0.35) -> 118168.34
A35: 9 | B35: =W34 -> 118168.34 | C35: =MAX(0,B35-Rate!$B$8) -> 109168.34 | D35: =IF(C35*'Tax 2026'!$B$23>='Tax 2026'!$B$24,C35*'Tax 2026'!$B$23,0) -> 100816.96 | E35: =MIN(D35,'Tax 2026'!$B$19)*'Tax 2026'!$B$20 -> 12501.303 | F35: =D35*'Tax 2026'!$B$21 -> 2923.6919 | G35: =MAX(0,MIN(D35,D35-INDEX('Tax 2026'!$D$13:$D$16,Rate!$B$21)))*'Tax 2026'!$B$22 -> 0 | H35: =E35+F35+G35 -> 15424.995 | I35: =(E35+F35)/2 -> 7712.4976 | J35: =MIN(Rate!$B$9,MAX(0,C35-I35)) -> 7200 | K35: =MIN(Rate!$B$10,MAX(0,C35-I35-J35)) -> 10000 | L35: =Rate!$B$6+C35-I35-J35-K35 -> 84255.843 | M35: =MAX(0,L35-Rate!$B$22) -> 68155.843 | N35: =MAX(0,C35-I35-J35-K35) -> 84255.843 | O35: =IF(N35<=0,0,IF(M35<=INDEX('Tax 2026'!$E$13:$E$16,Rate!$B$21),MIN('Tax 2026'!$B$25*N35,'Tax 2026'!$B$25*M35),IF(M35<INDEX('Tax 2026'!$E$13:$E$16,Rate!$B$21)+INDEX('Tax 2026'!$F$13:$F$16,Rate!$B$21),MIN('Tax 2026'!$B$25*N35*(1-(M35-INDEX('Tax 2026'!$E$13:$E$16,Rate!$B$21))/INDEX('Tax 2026'!$F$13:$F$16,Rate!$B$21)),'Tax 2026'!$B$25*M35),0))) -> 13631.169 | P35: =IF(AND(N35>='Tax 2026'!$B$27,O35<'Tax 2026'!$B$26),MIN('Tax 2026'!$B$26,M35),O35) -> 13631.169 | Q35: =MAX(0,M35-P35) -> 54524.674 | R35: =SUMPRODUCT((Q35>INDEX('Tax 2026'!$C$4:$F$10,0,Rate!$B$21))*(Q35-INDEX('Tax 2026'!$C$4:$F$10,0,Rate!$B$21))*'Tax 2026'!$G$4:$G$10) -> 6707.4284 | S35: =R35-SUMPRODUCT((MAX(0,Rate!$B$6-Rate!$B$22)>INDEX('Tax 2026'!$C$4:$F$10,0,Rate!$B$21))*(MAX(0,Rate!$B$6-Rate!$B$22)-INDEX('Tax 2026'!$C$4:$F$10,0,Rate!$B$21))*'Tax 2026'!$G$4:$G$10) -> 6707.4284 | T35: =C35*Rate!$B$7 -> 5458.417 | U35: =S35+H35+T35 -> 27590.841 | V35: =B35-Rate!$B$8-U35-Rate!$B$9-Rate!$B$10 -> 64377.5 | W35: =B35+(Rate!$B$53-V35)/(1-0.35) -> 118168.34
A36: 10 | B36: =W35 -> 118168.34 | C36: =MAX(0,B36-Rate!$B$8) -> 109168.34 | D36: =IF(C36*'Tax 2026'!$B$23>='Tax 2026'!$B$24,C36*'Tax 2026'!$B$23,0) -> 100816.96 | E36: =MIN(D36,'Tax 2026'!$B$19)*'Tax 2026'!$B$20 -> 12501.303 | F36: =D36*'Tax 2026'!$B$21 -> 2923.6919 | G36: =MAX(0,MIN(D36,D36-INDEX('Tax 2026'!$D$13:$D$16,Rate!$B$21)))*'Tax 2026'!$B$22 -> 0 | H36: =E36+F36+G36 -> 15424.995 | I36: =(E36+F36)/2 -> 7712.4976 | J36: =MIN(Rate!$B$9,MAX(0,C36-I36)) -> 7200 | K36: =MIN(Rate!$B$10,MAX(0,C36-I36-J36)) -> 10000 | L36: =Rate!$B$6+C36-I36-J36-K36 -> 84255.843 | M36: =MAX(0,L36-Rate!$B$22) -> 68155.843 | N36: =MAX(0,C36-I36-J36-K36) -> 84255.843 | O36: =IF(N36<=0,0,IF(M36<=INDEX('Tax 2026'!$E$13:$E$16,Rate!$B$21),MIN('Tax 2026'!$B$25*N36,'Tax 2026'!$B$25*M36),IF(M36<INDEX('Tax 2026'!$E$13:$E$16,Rate!$B$21)+INDEX('Tax 2026'!$F$13:$F$16,Rate!$B$21),MIN('Tax 2026'!$B$25*N36*(1-(M36-INDEX('Tax 2026'!$E$13:$E$16,Rate!$B$21))/INDEX('Tax 2026'!$F$13:$F$16,Rate!$B$21)),'Tax 2026'!$B$25*M36),0))) -> 13631.169 | P36: =IF(AND(N36>='Tax 2026'!$B$27,O36<'Tax 2026'!$B$26),MIN('Tax 2026'!$B$26,M36),O36) -> 13631.169 | Q36: =MAX(0,M36-P36) -> 54524.674 | R36: =SUMPRODUCT((Q36>INDEX('Tax 2026'!$C$4:$F$10,0,Rate!$B$21))*(Q36-INDEX('Tax 2026'!$C$4:$F$10,0,Rate!$B$21))*'Tax 2026'!$G$4:$G$10) -> 6707.4284 | S36: =R36-SUMPRODUCT((MAX(0,Rate!$B$6-Rate!$B$22)>INDEX('Tax 2026'!$C$4:$F$10,0,Rate!$B$21))*(MAX(0,Rate!$B$6-Rate!$B$22)-INDEX('Tax 2026'!$C$4:$F$10,0,Rate!$B$21))*'Tax 2026'!$G$4:$G$10) -> 6707.4284 | T36: =C36*Rate!$B$7 -> 5458.417 | U36: =S36+H36+T36 -> 27590.841 | V36: =B36-Rate!$B$8-U36-Rate!$B$9-Rate!$B$10 -> 64377.5 | W36: =B36+(Rate!$B$53-V36)/(1-0.35) -> 118168.34
A37: 11 | B37: =W36 -> 118168.34 | C37: =MAX(0,B37-Rate!$B$8) -> 109168.34 | D37: =IF(C37*'Tax 2026'!$B$23>='Tax 2026'!$B$24,C37*'Tax 2026'!$B$23,0) -> 100816.96 | E37: =MIN(D37,'Tax 2026'!$B$19)*'Tax 2026'!$B$20 -> 12501.303 | F37: =D37*'Tax 2026'!$B$21 -> 2923.6919 | G37: =MAX(0,MIN(D37,D37-INDEX('Tax 2026'!$D$13:$D$16,Rate!$B$21)))*'Tax 2026'!$B$22 -> 0 | H37: =E37+F37+G37 -> 15424.995 | I37: =(E37+F37)/2 -> 7712.4976 | J37: =MIN(Rate!$B$9,MAX(0,C37-I37)) -> 7200 | K37: =MIN(Rate!$B$10,MAX(0,C37-I37-J37)) -> 10000 | L37: =Rate!$B$6+C37-I37-J37-K37 -> 84255.843 | M37: =MAX(0,L37-Rate!$B$22) -> 68155.843 | N37: =MAX(0,C37-I37-J37-K37) -> 84255.843 | O37: =IF(N37<=0,0,IF(M37<=INDEX('Tax 2026'!$E$13:$E$16,Rate!$B$21),MIN('Tax 2026'!$B$25*N37,'Tax 2026'!$B$25*M37),IF(M37<INDEX('Tax 2026'!$E$13:$E$16,Rate!$B$21)+INDEX('Tax 2026'!$F$13:$F$16,Rate!$B$21),MIN('Tax 2026'!$B$25*N37*(1-(M37-INDEX('Tax 2026'!$E$13:$E$16,Rate!$B$21))/INDEX('Tax 2026'!$F$13:$F$16,Rate!$B$21)),'Tax 2026'!$B$25*M37),0))) -> 13631.169 | P37: =IF(AND(N37>='Tax 2026'!$B$27,O37<'Tax 2026'!$B$26),MIN('Tax 2026'!$B$26,M37),O37) -> 13631.169 | Q37: =MAX(0,M37-P37) -> 54524.674 | R37: =SUMPRODUCT((Q37>INDEX('Tax 2026'!$C$4:$F$10,0,Rate!$B$21))*(Q37-INDEX('Tax 2026'!$C$4:$F$10,0,Rate!$B$21))*'Tax 2026'!$G$4:$G$10) -> 6707.4284 | S37: =R37-SUMPRODUCT((MAX(0,Rate!$B$6-Rate!$B$22)>INDEX('Tax 2026'!$C$4:$F$10,0,Rate!$B$21))*(MAX(0,Rate!$B$6-Rate!$B$22)-INDEX('Tax 2026'!$C$4:$F$10,0,Rate!$B$21))*'Tax 2026'!$G$4:$G$10) -> 6707.4284 | T37: =C37*Rate!$B$7 -> 5458.417 | U37: =S37+H37+T37 -> 27590.841 | V37: =B37-Rate!$B$8-U37-Rate!$B$9-Rate!$B$10 -> 64377.5 | W37: =B37+(Rate!$B$53-V37)/(1-0.35) -> 118168.34
A38: 12 | B38: =W37 -> 118168.34 | C38: =MAX(0,B38-Rate!$B$8) -> 109168.34 | D38: =IF(C38*'Tax 2026'!$B$23>='Tax 2026'!$B$24,C38*'Tax 2026'!$B$23,0) -> 100816.96 | E38: =MIN(D38,'Tax 2026'!$B$19)*'Tax 2026'!$B$20 -> 12501.303 | F38: =D38*'Tax 2026'!$B$21 -> 2923.6919 | G38: =MAX(0,MIN(D38,D38-INDEX('Tax 2026'!$D$13:$D$16,Rate!$B$21)))*'Tax 2026'!$B$22 -> 0 | H38: =E38+F38+G38 -> 15424.995 | I38: =(E38+F38)/2 -> 7712.4976 | J38: =MIN(Rate!$B$9,MAX(0,C38-I38)) -> 7200 | K38: =MIN(Rate!$B$10,MAX(0,C38-I38-J38)) -> 10000 | L38: =Rate!$B$6+C38-I38-J38-K38 -> 84255.843 | M38: =MAX(0,L38-Rate!$B$22) -> 68155.843 | N38: =MAX(0,C38-I38-J38-K38) -> 84255.843 | O38: =IF(N38<=0,0,IF(M38<=INDEX('Tax 2026'!$E$13:$E$16,Rate!$B$21),MIN('Tax 2026'!$B$25*N38,'Tax 2026'!$B$25*M38),IF(M38<INDEX('Tax 2026'!$E$13:$E$16,Rate!$B$21)+INDEX('Tax 2026'!$F$13:$F$16,Rate!$B$21),MIN('Tax 2026'!$B$25*N38*(1-(M38-INDEX('Tax 2026'!$E$13:$E$16,Rate!$B$21))/INDEX('Tax 2026'!$F$13:$F$16,Rate!$B$21)),'Tax 2026'!$B$25*M38),0))) -> 13631.169 | P38: =IF(AND(N38>='Tax 2026'!$B$27,O38<'Tax 2026'!$B$26),MIN('Tax 2026'!$B$26,M38),O38) -> 13631.169 | Q38: =MAX(0,M38-P38) -> 54524.674 | R38: =SUMPRODUCT((Q38>INDEX('Tax 2026'!$C$4:$F$10,0,Rate!$B$21))*(Q38-INDEX('Tax 2026'!$C$4:$F$10,0,Rate!$B$21))*'Tax 2026'!$G$4:$G$10) -> 6707.4284 | S38: =R38-SUMPRODUCT((MAX(0,Rate!$B$6-Rate!$B$22)>INDEX('Tax 2026'!$C$4:$F$10,0,Rate!$B$21))*(MAX(0,Rate!$B$6-Rate!$B$22)-INDEX('Tax 2026'!$C$4:$F$10,0,Rate!$B$21))*'Tax 2026'!$G$4:$G$10) -> 6707.4284 | T38: =C38*Rate!$B$7 -> 5458.417 | U38: =S38+H38+T38 -> 27590.841 | V38: =B38-Rate!$B$8-U38-Rate!$B$9-Rate!$B$10 -> 64377.5 | W38: =B38+(Rate!$B$53-V38)/(1-0.35) -> 118168.34
... A40: 14 | B40: =W39 -> 118168.34 | C40: =MAX(0,B40-Rate!$B$8) -> 109168.34 | D40: =IF(C40*'Tax 2026'!$B$23>='Tax 2026'!$B$24,C40*'Tax 2026'!$B$23,0) -> 100816.96 | E40: =MIN(D40,'Tax 2026'!$B$19)*'Tax 2026'!$B$20 -> 12501.303 | F40: =D40*'Tax 2026'!$B$21 -> 2923.6919 | G40: =MAX(0,MIN(D40,D40-INDEX('Tax 2026'!$D$13:$D$16,Rate!$B$21)))*'Tax 2026'!$B$22 -> 0 | H40: =E40+F40+G40 -> 15424.995 | I40: =(E40+F40)/2 -> 7712.4976 | J40: =MIN(Rate!$B$9,MAX(0,C40-I40)) -> 7200 | K40: =MIN(Rate!$B$10,MAX(0,C40-I40-J40)) -> 10000 | L40: =Rate!$B$6+C40-I40-J40-K40 -> 84255.843 | M40: =MAX(0,L40-Rate!$B$22) -> 68155.843 | N40: =MAX(0,C40-I40-J40-K40) -> 84255.843 | O40: =IF(N40<=0,0,IF(M40<=INDEX('Tax 2026'!$E$13:$E$16,Rate!$B$21),MIN('Tax 2026'!$B$25*N40,'Tax 2026'!$B$25*M40),IF(M40<INDEX('Tax 2026'!$E$13:$E$16,Rate!$B$21)+INDEX('Tax 2026'!$F$13:$F$16,Rate!$B$21),MIN('Tax 2026'!$B$25*N40*(1-(M40-INDEX('Tax 2026'!$E$13:$E$16,Rate!$B$21))/INDEX('Tax 2026'!$F$13:$F$16,Rate!$B$21)),'Tax 2026'!$B$25*M40),0))) -> 13631.169 | P40: =IF(AND(N40>='Tax 2026'!$B$27,O40<'Tax 2026'!$B$26),MIN('Tax 2026'!$B$26,M40),O40) -> 13631.169 | Q40: =MAX(0,M40-P40) -> 54524.674 | R40: =SUMPRODUCT((Q40>INDEX('Tax 2026'!$C$4:$F$10,0,Rate!$B$21))*(Q40-INDEX('Tax 2026'!$C$4:$F$10,0,Rate!$B$21))*'Tax 2026'!$G$4:$G$10) -> 6707.4284 | S40: =R40-SUMPRODUCT((MAX(0,Rate!$B$6-Rate!$B$22)>INDEX('Tax 2026'!$C$4:$F$10,0,Rate!$B$21))*(MAX(0,Rate!$B$6-Rate!$B$22)-INDEX('Tax 2026'!$C$4:$F$10,0,Rate!$B$21))*'Tax 2026'!$G$4:$G$10) -> 6707.4284 | T40: =C40*Rate!$B$7 -> 5458.417 | U40: =S40+H40+T40 -> 27590.841 | V40: =B40-Rate!$B$8-U40-Rate!$B$9-Rate!$B$10 -> 64377.5 | W40: =B40+(Rate!$B$53-V40)/(1-0.35) -> 118168.34

Sheet Tax 2026
A1: 2026 federal parameters (Rev. Proc. 2025-32 and statute)
A3: Bracket | B3: Rate | C3: Single from | D3: Joint from | E3: Head of household from | F3: Separate from | G3: Rate step
A4: 1 | B4: 0.1 | C4: 0 | D4: 0 | E4: 0 | F4: 0 | G4: =B4-0 -> 0.1
A5: 2 | B5: 0.12 | C5: 12400 | D5: 24800 | E5: 17700 | F5: 12400 | G5: =B5-B4 -> 0.02
A6: 3 | B6: 0.22 | C6: 50400 | D6: 100800 | E6: 67450 | F6: 50400 | G6: =B6-B5 -> 0.1
A7: 4 | B7: 0.24 | C7: 105700 | D7: 211400 | E7: 105700 | F7: 105700 | G7: =B7-B6 -> 0.02
A8: 5 | B8: 0.32 | C8: 201775 | D8: 403550 | E8: 201750 | F8: 201775 | G8: =B8-B7 -> 0.08
A9: 6 | B9: 0.35 | C9: 256225 | D9: 512450 | E9: 256200 | F9: 256225 | G9: =B9-B8 -> 0.03
A10: 7 | B10: 0.37 | C10: 640600 | D10: 768700 | E10: 640600 | F10: 384350 | G10: =B10-B9 -> 0.02
A12: Filing status | B12: Position | C12: Standard deduction | D12: Additional Medicare threshold | E12: QBI threshold | F12: QBI phase range
A13: Single | B13: 1 | C13: 16100 | D13: 200000 | E13: 201750 | F13: 75000
A14: Married filing jointly | B14: 2 | C14: 32200 | D14: 250000 | E14: 403500 | F14: 150000
A15: Head of household | B15: 3 | C15: 24150 | D15: 200000 | E15: 201750 | F15: 75000
A16: Married filing separately | B16: 4 | C16: 16100 | D16: 125000 | E16: 201775 | F16: 75000
A19: Social Security wage base | B19: 184500
A20: Social Security rate (self-employed) | B20: 0.124
A21: Medicare rate (self-employed) | B21: 0.029
A22: Additional Medicare rate | B22: 0.009
A23: Net earnings factor | B23: 0.9235
A24: Self-employment filing minimum | B24: 400
A25: QBI rate | B25: 0.2
A26: QBI minimum deduction | B26: 400
A27: QBI minimum qualified income | B27: 1000
